BEGIN:VCALENDAR
VERSION:2.0
PRODID:-//Parrish Art Museum - ECPv6.10.2//NONSGML v1.0//EN
CALSCALE:GREGORIAN
METHOD:PUBLISH
X-ORIGINAL-URL:https://parrishart.org
X-WR-CALDESC:Events for Parrish Art Museum
REFRESH-INTERVAL;VALUE=DURATION:PT1H
X-Robots-Tag:noindex
X-PUBLISHED-TTL:PT1H
BEGIN:VTIMEZONE
TZID:America/New_York
BEGIN:DAYLIGHT
TZOFFSETFROM:-0500
TZOFFSETTO:-0400
TZNAME:EDT
DTSTART:20200308T070000
END:DAYLIGHT
BEGIN:STANDARD
TZOFFSETFROM:-0400
TZOFFSETTO:-0500
TZNAME:EST
DTSTART:20201101T060000
END:STANDARD
END:VTIMEZONE
BEGIN:VEVENT
DTSTART;TZID=America/New_York:20200418T193000
DTEND;TZID=America/New_York:20200418T230000
DTSTAMP:20260425T080832
CREATED:20191008T160838Z
LAST-MODIFIED:20200422T211429Z
UID:10002188-1587238200-1587250800@parrishart.org
SUMMARY:Spring Fling - Rescheduled to Saturday\, October 17
DESCRIPTION:Spring Fling has been rescheduled for Saturday\, October 17\, 2020. We hope you will join us then!\nJoin us for a special night and celebrate with friends and colleagues. The evening is filled with great food\, music\, cocktails\, and a silent auction and supports the Museum’s year-round education programs. \nFor information on sponsorship\, donating to the silent auction\, or tickets\, email benefitevents@parrishart.org or call 631-283-2118 x 150.\n\nTickets/Sponsorship\nTICKETS \nMember: $150 each\nNon-Member: $200 each\nYoung Professional: $100 each (ages 21–30)\n(All tickets purchased after April 13 are $225 each) \nSPONSORSHIP\nDiamond Sponsor: $5\,000 (includes 10 tickets)\nPlatinum Sponsor: $2\,500  (includes 6 tickets)\nGold Sponsor: $1\,000 (includes 4 tickets)\nSilver Sponsor: $500  (includes 2 tickets)\nBronze Sponsor: $250 (includes 1 ticket)\nBenefits of Spring Fling Sponsorship \n  \nSpring Fling Steering Committee\nCo-Chairs: Christine Curiale Steinmuller\, Maryanne Horwath\, and Laura Wynne\nVice Chairs: Linda Kouzoujian\, Alexis Mayer\, and Patty Oakley \nTracy Collins Antonino\, Matt Curti\, Meegan Darby\, Fran Girimonti\, Aleksandra Kardwell\, Fabienne Lecole\, Cristina Matos\, Beth McNeill\, Fay Mihos\, Garrett Pike\, and Dale Westreich \n  \nLearn more about the Parrish’s educational programs that you support by donating to Spring Fling.\nClick below to access the video:
URL:https://parrishart.org/event/springflingapril2020/
LOCATION:Parrish Art Museum\, 279 Montauk Highway\, Water Mill\, NY\, 11976\, United States
CATEGORIES:Benefit Events
ATTACH;FMTTYPE=image/jpeg:https://parrishart.org/wp-content/uploads/2019/10/parrish_2019springfling-8832-2.jpg
END:VEVENT
END:VCALENDAR