BEGIN:VCALENDAR
VERSION:2.0
PRODID:-//Parrish Art Museum - ECPv6.10.2//NONSGML v1.0//EN
CALSCALE:GREGORIAN
METHOD:PUBLISH
X-WR-CALNAME:Parrish Art Museum
X-ORIGINAL-URL:https://parrishart.org
X-WR-CALDESC:Events for Parrish Art Museum
REFRESH-INTERVAL;VALUE=DURATION:PT1H
X-Robots-Tag:noindex
X-PUBLISHED-TTL:PT1H
BEGIN:VTIMEZONE
TZID:America/New_York
BEGIN:DAYLIGHT
TZOFFSETFROM:-0500
TZOFFSETTO:-0400
TZNAME:EDT
DTSTART:20200308T070000
END:DAYLIGHT
BEGIN:STANDARD
TZOFFSETFROM:-0400
TZOFFSETTO:-0500
TZNAME:EST
DTSTART:20201101T060000
END:STANDARD
END:VTIMEZONE
BEGIN:VEVENT
DTSTART;TZID=America/New_York:20200921T103000
DTEND;TZID=America/New_York:20200921T123000
DTSTAMP:20260420T020522
CREATED:20200727T133923Z
LAST-MODIFIED:20200901T152521Z
UID:10002729-1600684200-1600691400@parrishart.org
SUMMARY:Life Drawing with Linda Capello
DESCRIPTION:Held on Mondays\, 10:30 am to 12:30 pm \n  \nDevelop your drawing skills in weekly classes led by teaching artist Linda Capello. Participants will practice drawing male and female models through gesture sketches and longer duration observation. All skill levels are welcome. Participants are asked to provide their own dry media supplies. \nSOLD OUT \nCLICK HERE FOR OTHER CLASSES \nAdvance ticket purchase with pre-registration is required. Enrollment is limited to 10 total students. All tickets are sold online only. No sales at the door. All sales are final\, non-transferable\, and non-refundable. You must wear a face covering to enter the Museum.  \nLinda Capello is a master of figure drawing. A graduate of the Fashion Institute of Technology\, she worked in the NYC fashion industry for over 20 years. She states\, “All I have ever wanted to do was draw\, and all I have ever wanted to draw were people. I am a classically trained anatomist\, but instead of the rigid\, mechanical representation of muscle\, bone and flesh\, I look for the subtlety of the line; the strength and sensuality of the thick\, thin and lost line. The curve of the neck and arch of the spine speak volumes.”
URL:https://parrishart.org/event/life-drawing-with-linda-capello-10-2020-08-24-2020-08-31-2020-09-21/
LOCATION:Parrish Art Museum\, 279 Montauk Highway\, Water Mill\, NY\, 11976\, United States
CATEGORIES:Adult Art Classes,Classes and Workshops
ATTACH;FMTTYPE=image/jpeg:https://parrishart.org/wp-content/uploads/2019/01/Linda3.jpg
END:VEVENT
BEGIN:VEVENT
DTSTART;TZID=America/New_York:20200925T100000
DTEND;TZID=America/New_York:20200925T123000
DTSTAMP:20260420T020522
CREATED:20200807T190628Z
LAST-MODIFIED:20200905T152747Z
UID:10000845-1601028000-1601037000@parrishart.org
SUMMARY:Painting en Plein Air with Barbara Thomas
DESCRIPTION:Series of three Fridays\, September 11\, 18 and 25\, 10 am to 12:30 pm \nExplore painting en plein air in a variety of settings. Locations include regional gardens and the Parrish landscape.  The Museum’s grounds have recently been activated by Art in the Meadow—a new installation of outdoor  sculpture installed in the North and South meadows and the first class will include exploration of the galleries and grounds. Classes on September 18 and 25 will be held offsite; directions will be provided.  Open to adults and youth age 15+. All skill levels are welcome. Participants will arrange for their own materials; a supply list will be provided. \n$385 | $265 Members \nSOLD OUT \nAdvance registration is required. No sales at the door. The event takes place outdoors on the Museum’s terrace\, grounds other offsite locations. Capacity is limited based on safe social distancing. Face coverings must be worn by all participants. 
URL:https://parrishart.org/event/painting-en-plein-air-with-barbara-thomas/2020-09-25/
LOCATION:Parrish Art Museum\, 279 Montauk Highway\, Water Mill\, NY\, 11976\, United States
CATEGORIES:Adult Art Classes,Classes and Workshops
ATTACH;FMTTYPE=image/jpeg:https://parrishart.org/wp-content/uploads/2019/02/AdultEd-PleinAir-BarbaraThomas-Resize-e1549650039957.jpg
END:VEVENT
END:VCALENDAR