BEGIN:VCALENDAR
VERSION:2.0
PRODID:-//Parrish Art Museum - ECPv6.10.2//NONSGML v1.0//EN
CALSCALE:GREGORIAN
METHOD:PUBLISH
X-ORIGINAL-URL:https://parrishart.org
X-WR-CALDESC:Events for Parrish Art Museum
REFRESH-INTERVAL;VALUE=DURATION:PT1H
X-Robots-Tag:noindex
X-PUBLISHED-TTL:PT1H
BEGIN:VTIMEZONE
TZID:America/New_York
BEGIN:DAYLIGHT
TZOFFSETFROM:-0500
TZOFFSETTO:-0400
TZNAME:EDT
DTSTART:20200308T070000
END:DAYLIGHT
BEGIN:STANDARD
TZOFFSETFROM:-0400
TZOFFSETTO:-0500
TZNAME:EST
DTSTART:20201101T060000
END:STANDARD
END:VTIMEZONE
BEGIN:VEVENT
DTSTART;TZID=America/New_York:20200703T100000
DTEND;TZID=America/New_York:20200703T123000
DTSTAMP:20260425T233803
CREATED:20200304T202528Z
LAST-MODIFIED:20200520T201628Z
UID:10002690-1593770400-1593779400@parrishart.org
SUMMARY:Painting the East End en Plein Air with Barbara Thomas
DESCRIPTION:Series of four Fridays\, July 3\, 10\, 17 and 24\, 10 am–12:30 pm \nExplore painting en plein air in a variety of settings. Locations include regional gardens and the Parrish landscape. Open to adults and youth age 15+. All skill levels are welcome. Participants will arrange for their own materials; a supply list and direction to locations will be provided. \n$425 | $300 Members \nREGISTER \nAs we look forward to summer 2020 at the Parrish\, we are monitoring regional government guidelines and proactively undertaking measures to plan a safe environment at all Museum activities.
URL:https://parrishart.org/event/painting-the-east-end-en-plein-air-with-barbara-thomas/2020-07-03/
LOCATION:Parrish Art Museum\, 279 Montauk Highway\, Water Mill\, NY\, 11976\, United States
CATEGORIES:Adult Art Classes,Classes and Workshops
ATTACH;FMTTYPE=image/jpeg:https://parrishart.org/wp-content/uploads/2019/02/AdultEd-PleinAir-BarbaraThomas-Resize-e1549650039957.jpg
END:VEVENT
BEGIN:VEVENT
DTSTART;TZID=America/New_York:20200708T110000
DTEND;TZID=America/New_York:20200708T114500
DTSTAMP:20260425T233803
CREATED:20200629T150214Z
LAST-MODIFIED:20200720T141944Z
UID:10000826-1594206000-1594208700@parrishart.org
SUMMARY:Talks with Docents
DESCRIPTION:In this session\, docent Susan Dubner explored stories and symbols in landscapes from the Parrish collection and docent Pat Follert took a close look at some examples of Photorealism.  Play videos of each below. \n \n \nTalks with Docents: Stories and Symbols in American Landscapes from Parrish Art Museum on Vimeo. \n \nTalks with Docents: Photorealism from Parrish Art Museum on Vimeo.
URL:https://parrishart.org/event/talks-with-docents-3/
LOCATION:Parrish Art Museum\, 279 Montauk Highway\, Water Mill\, NY\, 11976\, United States
CATEGORIES:Adult Art Classes,Classes and Workshops
END:VEVENT
BEGIN:VEVENT
DTSTART;TZID=America/New_York:20200710T100000
DTEND;TZID=America/New_York:20200710T123000
DTSTAMP:20260425T233803
CREATED:20200304T202528Z
LAST-MODIFIED:20200520T201628Z
UID:10002691-1594375200-1594384200@parrishart.org
SUMMARY:Painting the East End en Plein Air with Barbara Thomas
DESCRIPTION:Series of four Fridays\, July 3\, 10\, 17 and 24\, 10 am–12:30 pm \nExplore painting en plein air in a variety of settings. Locations include regional gardens and the Parrish landscape. Open to adults and youth age 15+. All skill levels are welcome. Participants will arrange for their own materials; a supply list and direction to locations will be provided. \n$425 | $300 Members \nREGISTER \nAs we look forward to summer 2020 at the Parrish\, we are monitoring regional government guidelines and proactively undertaking measures to plan a safe environment at all Museum activities.
URL:https://parrishart.org/event/painting-the-east-end-en-plein-air-with-barbara-thomas/2020-07-10/
LOCATION:Parrish Art Museum\, 279 Montauk Highway\, Water Mill\, NY\, 11976\, United States
CATEGORIES:Adult Art Classes,Classes and Workshops
ATTACH;FMTTYPE=image/jpeg:https://parrishart.org/wp-content/uploads/2019/02/AdultEd-PleinAir-BarbaraThomas-Resize-e1549650039957.jpg
END:VEVENT
BEGIN:VEVENT
DTSTART;TZID=America/New_York:20200717T100000
DTEND;TZID=America/New_York:20200717T123000
DTSTAMP:20260425T233803
CREATED:20200304T202528Z
LAST-MODIFIED:20200520T201628Z
UID:10002692-1594980000-1594989000@parrishart.org
SUMMARY:Painting the East End en Plein Air with Barbara Thomas
DESCRIPTION:Series of four Fridays\, July 3\, 10\, 17 and 24\, 10 am–12:30 pm \nExplore painting en plein air in a variety of settings. Locations include regional gardens and the Parrish landscape. Open to adults and youth age 15+. All skill levels are welcome. Participants will arrange for their own materials; a supply list and direction to locations will be provided. \n$425 | $300 Members \nREGISTER \nAs we look forward to summer 2020 at the Parrish\, we are monitoring regional government guidelines and proactively undertaking measures to plan a safe environment at all Museum activities.
URL:https://parrishart.org/event/painting-the-east-end-en-plein-air-with-barbara-thomas/2020-07-17/
LOCATION:Parrish Art Museum\, 279 Montauk Highway\, Water Mill\, NY\, 11976\, United States
CATEGORIES:Adult Art Classes,Classes and Workshops
ATTACH;FMTTYPE=image/jpeg:https://parrishart.org/wp-content/uploads/2019/02/AdultEd-PleinAir-BarbaraThomas-Resize-e1549650039957.jpg
END:VEVENT
BEGIN:VEVENT
DTSTART;TZID=America/New_York:20200722T110000
DTEND;TZID=America/New_York:20200722T114500
DTSTAMP:20260425T233803
CREATED:20200629T151203Z
LAST-MODIFIED:20200730T175014Z
UID:10000828-1595415600-1595418300@parrishart.org
SUMMARY:Talks with Docents
DESCRIPTION:Parrish docent Marie Braccia will explores artists’ relationships innovation in this online talk. Artists discussed include Ross Bleckner\, April Gornik\, Eric Fischl\, Joe Fig and David Salle. View a video of the talk below. \n \nVIEW OTHER UPCOMING PROGRAMS
URL:https://parrishart.org/event/talks-with-docents-4/
LOCATION:Parrish Art Museum\, 279 Montauk Highway\, Water Mill\, NY\, 11976\, United States
CATEGORIES:Adult Art Classes,Classes and Workshops
END:VEVENT
BEGIN:VEVENT
DTSTART;TZID=America/New_York:20200724T100000
DTEND;TZID=America/New_York:20200724T123000
DTSTAMP:20260425T233803
CREATED:20200304T202528Z
LAST-MODIFIED:20200520T201628Z
UID:10002693-1595584800-1595593800@parrishart.org
SUMMARY:Painting the East End en Plein Air with Barbara Thomas
DESCRIPTION:Series of four Fridays\, July 3\, 10\, 17 and 24\, 10 am–12:30 pm \nExplore painting en plein air in a variety of settings. Locations include regional gardens and the Parrish landscape. Open to adults and youth age 15+. All skill levels are welcome. Participants will arrange for their own materials; a supply list and direction to locations will be provided. \n$425 | $300 Members \nREGISTER \nAs we look forward to summer 2020 at the Parrish\, we are monitoring regional government guidelines and proactively undertaking measures to plan a safe environment at all Museum activities.
URL:https://parrishart.org/event/painting-the-east-end-en-plein-air-with-barbara-thomas/2020-07-24/
LOCATION:Parrish Art Museum\, 279 Montauk Highway\, Water Mill\, NY\, 11976\, United States
CATEGORIES:Adult Art Classes,Classes and Workshops
ATTACH;FMTTYPE=image/jpeg:https://parrishart.org/wp-content/uploads/2019/02/AdultEd-PleinAir-BarbaraThomas-Resize-e1549650039957.jpg
END:VEVENT
END:VCALENDAR