BEGIN:VCALENDAR
VERSION:2.0
PRODID:-//Parrish Art Museum - ECPv6.10.2//NONSGML v1.0//EN
CALSCALE:GREGORIAN
METHOD:PUBLISH
X-ORIGINAL-URL:https://parrishart.org
X-WR-CALDESC:Events for Parrish Art Museum
REFRESH-INTERVAL;VALUE=DURATION:PT1H
X-Robots-Tag:noindex
X-PUBLISHED-TTL:PT1H
BEGIN:VTIMEZONE
TZID:America/New_York
BEGIN:DAYLIGHT
TZOFFSETFROM:-0500
TZOFFSETTO:-0400
TZNAME:EDT
DTSTART:20250309T070000
END:DAYLIGHT
BEGIN:STANDARD
TZOFFSETFROM:-0400
TZOFFSETTO:-0500
TZNAME:EST
DTSTART:20251102T060000
END:STANDARD
END:VTIMEZONE
BEGIN:VEVENT
DTSTART;TZID=America/New_York:20250130T110000
DTEND;TZID=America/New_York:20250130T120000
DTSTAMP:20260424T030032
CREATED:20241206T154823Z
LAST-MODIFIED:20241206T155508Z
UID:10004058-1738234800-1738238400@parrishart.org
SUMMARY:Healing Through Art
DESCRIPTION:Explore works of art in our galleries and participate in a hands-on artmaking experience with museum educator Wendy Gottlieb. A variety of materials in the studio will be available to use.  \nFree program. Registration is required.\nEmail ragan.finalborgo@stonybrookmedicine.edu or call 631.726.8600
URL:https://parrishart.org/event/healing-through-art-2/2025-01-30/
LOCATION:Parrish Art Museum\, 279 Montauk Highway\, Water Mill\, NY\, 11976\, United States
CATEGORIES:Access Parrish
ATTACH;FMTTYPE=image/png:https://parrishart.org/wp-content/uploads/2024/09/Screenshot-2024-09-29-at-2.59.48 PM.png
END:VEVENT
END:VCALENDAR