BEGIN:VCALENDAR
VERSION:2.0
PRODID:-//Parrish Art Museum - ECPv6.10.2//NONSGML v1.0//EN
CALSCALE:GREGORIAN
METHOD:PUBLISH
X-WR-CALNAME:Parrish Art Museum
X-ORIGINAL-URL:https://parrishart.org
X-WR-CALDESC:Events for Parrish Art Museum
REFRESH-INTERVAL;VALUE=DURATION:PT1H
X-Robots-Tag:noindex
X-PUBLISHED-TTL:PT1H
BEGIN:VTIMEZONE
TZID:America/New_York
BEGIN:DAYLIGHT
TZOFFSETFROM:-0500
TZOFFSETTO:-0400
TZNAME:EDT
DTSTART:20240310T070000
END:DAYLIGHT
BEGIN:STANDARD
TZOFFSETFROM:-0400
TZOFFSETTO:-0500
TZNAME:EST
DTSTART:20241103T060000
END:STANDARD
END:VTIMEZONE
BEGIN:VEVENT
DTSTART;TZID=America/New_York:20241104T130000
DTEND;TZID=America/New_York:20241104T140000
DTSTAMP:20260420T230047
CREATED:20240929T184422Z
LAST-MODIFIED:20250131T162912Z
UID:10004012-1730725200-1730728800@parrishart.org
SUMMARY:Dance for Parkinson's
DESCRIPTION:Increase coordination\, balance\, flexibility\, strength\, and joy through music and movement with dancer and teacher Donna Kaz\, who was trained by the Mark Morris Dance Group’s Dance for Parkinson’s Disease program. \n\nFree program. Registration is required.\nEmail sarah.cohen@stonybrookmedicine.edu or call 631.644.6667
URL:https://parrishart.org/event/dance-for-parkinsons/2024-11-04/
LOCATION:Parrish Art Museum\, 279 Montauk Highway\, Water Mill\, NY\, 11976\, United States
CATEGORIES:Access Parrish
ATTACH;FMTTYPE=image/jpeg:https://parrishart.org/wp-content/uploads/2024/04/DancePD-8069-by-Amber-Star-Merkens.jpeg
END:VEVENT
BEGIN:VEVENT
DTSTART;TZID=America/New_York:20241107T160000
DTEND;TZID=America/New_York:20241107T180000
DTSTAMP:20260420T230047
CREATED:20241010T165434Z
LAST-MODIFIED:20241010T165434Z
UID:10004027-1730995200-1731002400@parrishart.org
SUMMARY:Film & Talk | SPARK: Robin Williams and his Battle with Lewy Body Dementia
DESCRIPTION:REGISTER \nSPARK: Robin Williams and his Battle with Lewy Body Dementia\, 2023\, 45 min. \nJoin us for a special film screening of SPARK: Robin Williams and his Battle with Lewy Body Dementia\, presented in collaboration with the Alzheimer’s Disease Resource Center (ADRC). This important documentary tells the story of Robin Williams’ battle with undiagnosed Lewy body dementia (LBD). The documentary highlights key messages that can enhance learning and understanding of LBD and other forms of dementia\, improve diagnosis and detection\, and offer families a way to feel connected to resources and support. The screening is followed by a panel about the disease and Q&A session. \nFree and open to all. Advanced registration is required. \nPanelists\nLauren Vlachos\, MSNP\, CFRE – Executive Director/CEO of ADRC\nSharon Reichman\, MSW – Director of Client Services ADRC\nEric Spronz\, MSN\, PMHNP-BC\, CASAC – Medical Director of East End Neuropsych \nAbout the Film\nThe feature movie Robin’s Wish reveals the true story about Robin Williams and his battle with undiagnosed Lewy body dementia (LBD)\, receiving wide public acclaim. From that movie\, Lewy Body Dementia Association (LBDA) and the producers of Robin’s Wish created a 45-minute documentary adaptation\, SPARK: Robin Williams and his Battle with Lewy Body Dementia. Watch the trailer here. \nLBDA is using this educational film to disseminate information about Robin Williams and his battle with undiagnosed Lewy body dementia (LBD) to promote community and professional awareness and education to those affected by Lewy body dementia. This new and fascinating adaptation delves deeper into the disease\, its biology\, myriad of clinical symptoms and its impact on both the person with LBD and the primary caregiver.
URL:https://parrishart.org/event/film-talk-spark-robin-williams-and-his-battle-with-lewy-body-dementia/
LOCATION:Parrish Art Museum\, 279 Montauk Highway\, Water Mill\, NY\, 11976\, United States
CATEGORIES:Access Parrish,Film,Talks
ATTACH;FMTTYPE=image/webp:https://parrishart.org/wp-content/uploads/2024/10/Spark-LBD-Robin-Williams.webp
END:VEVENT
BEGIN:VEVENT
DTSTART;TZID=America/New_York:20241114T110000
DTEND;TZID=America/New_York:20241114T120000
DTSTAMP:20260420T230047
CREATED:20240929T183254Z
LAST-MODIFIED:20240929T183254Z
UID:10004008-1731582000-1731585600@parrishart.org
SUMMARY:Drumming Workshops
DESCRIPTION:Come experience the physical\, cognitive\, and psychological benefits of percussion with drummer and music therapist Michael Guglielmo. \n\nFree program\, Registration is required.\nEmail carol.hartmann@adrc.org or call 631.580.4417
URL:https://parrishart.org/event/drumming-workshops/2024-11-14/
LOCATION:Parrish Art Museum\, 279 Montauk Highway\, Water Mill\, NY\, 11976\, United States
CATEGORIES:Access Parrish,Music
ATTACH;FMTTYPE=image/png:https://parrishart.org/wp-content/uploads/2024/09/Screenshot-2024-09-29-at-2.27.45 PM.png
END:VEVENT
BEGIN:VEVENT
DTSTART;TZID=America/New_York:20241114T110000
DTEND;TZID=America/New_York:20241114T120000
DTSTAMP:20260420T230047
CREATED:20240929T185247Z
LAST-MODIFIED:20240929T185609Z
UID:10004015-1731582000-1731585600@parrishart.org
SUMMARY:PD Pottery at the Parrish
DESCRIPTION:Participants will create using clay with museum educator and ceramicist Wendy Gottlieb. \n\nFree program. Registration is required.\nEmail sarah.cohen@stonybrookmedicine.edu or call 631.644.6667
URL:https://parrishart.org/event/pd-pottery-at-the-parrish/2024-11-14/
LOCATION:Parrish Art Museum\, 279 Montauk Highway\, Water Mill\, NY\, 11976\, United States
CATEGORIES:Access Parrish
ATTACH;FMTTYPE=image/png:https://parrishart.org/wp-content/uploads/2024/09/Screenshot-2024-09-29-at-2.41.52 PM.png
END:VEVENT
BEGIN:VEVENT
DTSTART;TZID=America/New_York:20241115T104500
DTEND;TZID=America/New_York:20241115T120000
DTSTAMP:20260420T230048
CREATED:20240929T182332Z
LAST-MODIFIED:20240929T184826Z
UID:10004005-1731667500-1731672000@parrishart.org
SUMMARY:Art in Action
DESCRIPTION:Explore works of art in our galleries and participate in a hands-on artmaking experience with museum educator Wendy Gottlieb. \n\nFree program. Registration is required.\nEmail carol.hartmann@adrc.org or call 631.580.4417
URL:https://parrishart.org/event/art-in-action/2024-11-15/
LOCATION:Parrish Art Museum\, 279 Montauk Highway\, Water Mill\, NY\, 11976\, United States
CATEGORIES:Access Parrish,Adult Art Classes
ATTACH;FMTTYPE=image/png:https://parrishart.org/wp-content/uploads/2024/09/Screenshot-2024-09-29-at-2.14.20 PM.png
END:VEVENT
BEGIN:VEVENT
DTSTART;TZID=America/New_York:20241118T130000
DTEND;TZID=America/New_York:20241118T140000
DTSTAMP:20260420T230048
CREATED:20240929T184422Z
LAST-MODIFIED:20250131T162912Z
UID:10004013-1731934800-1731938400@parrishart.org
SUMMARY:Dance for Parkinson's
DESCRIPTION:Increase coordination\, balance\, flexibility\, strength\, and joy through music and movement with dancer and teacher Donna Kaz\, who was trained by the Mark Morris Dance Group’s Dance for Parkinson’s Disease program. \n\nFree program. Registration is required.\nEmail sarah.cohen@stonybrookmedicine.edu or call 631.644.6667
URL:https://parrishart.org/event/dance-for-parkinsons/2024-11-18/
LOCATION:Parrish Art Museum\, 279 Montauk Highway\, Water Mill\, NY\, 11976\, United States
CATEGORIES:Access Parrish
ATTACH;FMTTYPE=image/jpeg:https://parrishart.org/wp-content/uploads/2024/04/DancePD-8069-by-Amber-Star-Merkens.jpeg
END:VEVENT
BEGIN:VEVENT
DTSTART;TZID=America/New_York:20241121T110000
DTEND;TZID=America/New_York:20241121T120000
DTSTAMP:20260420T230048
CREATED:20240929T190040Z
LAST-MODIFIED:20240929T190040Z
UID:10004018-1732186800-1732190400@parrishart.org
SUMMARY:Healing Through Art
DESCRIPTION:Explore works of art in our galleries and participate in a hands-on artmaking experience with museum educator Wendy Gottlieb. \nFree program. Registration is required.\nEmail ragan.finalborgo@stonybrookmedicine.edu or call 631.726.8600
URL:https://parrishart.org/event/healing-through-art/2024-11-21/
LOCATION:Parrish Art Museum\, 279 Montauk Highway\, Water Mill\, NY\, 11976\, United States
CATEGORIES:Access Parrish
ATTACH;FMTTYPE=image/png:https://parrishart.org/wp-content/uploads/2024/09/Screenshot-2024-09-29-at-2.59.48 PM.png
END:VEVENT
END:VCALENDAR