BEGIN:VCALENDAR
VERSION:2.0
PRODID:-//Parrish Art Museum - ECPv6.10.2//NONSGML v1.0//EN
CALSCALE:GREGORIAN
METHOD:PUBLISH
X-ORIGINAL-URL:https://parrishart.org
X-WR-CALDESC:Events for Parrish Art Museum
REFRESH-INTERVAL;VALUE=DURATION:PT1H
X-Robots-Tag:noindex
X-PUBLISHED-TTL:PT1H
BEGIN:VTIMEZONE
TZID:America/New_York
BEGIN:DAYLIGHT
TZOFFSETFROM:-0500
TZOFFSETTO:-0400
TZNAME:EDT
DTSTART:20240310T070000
END:DAYLIGHT
BEGIN:STANDARD
TZOFFSETFROM:-0400
TZOFFSETTO:-0500
TZNAME:EST
DTSTART:20241103T060000
END:STANDARD
END:VTIMEZONE
BEGIN:VEVENT
DTSTART;TZID=America/New_York:20241018T104500
DTEND;TZID=America/New_York:20241018T120000
DTSTAMP:20260420T144845
CREATED:20240929T182332Z
LAST-MODIFIED:20240929T184826Z
UID:10004004-1729248300-1729252800@parrishart.org
SUMMARY:Art in Action
DESCRIPTION:Explore works of art in our galleries and participate in a hands-on artmaking experience with museum educator Wendy Gottlieb. \n\nFree program. Registration is required.\nEmail carol.hartmann@adrc.org or call 631.580.4417
URL:https://parrishart.org/event/art-in-action/2024-10-18/
LOCATION:Parrish Art Museum\, 279 Montauk Highway\, Water Mill\, NY\, 11976\, United States
CATEGORIES:Access Parrish,Adult Art Classes
ATTACH;FMTTYPE=image/png:https://parrishart.org/wp-content/uploads/2024/09/Screenshot-2024-09-29-at-2.14.20 PM.png
END:VEVENT
BEGIN:VEVENT
DTSTART;TZID=America/New_York:20241021T130000
DTEND;TZID=America/New_York:20241021T140000
DTSTAMP:20260420T144845
CREATED:20240929T184422Z
LAST-MODIFIED:20250131T162912Z
UID:10004010-1729515600-1729519200@parrishart.org
SUMMARY:Dance for Parkinson's
DESCRIPTION:Increase coordination\, balance\, flexibility\, strength\, and joy through music and movement with dancer and teacher Donna Kaz\, who was trained by the Mark Morris Dance Group’s Dance for Parkinson’s Disease program. \n\nFree program. Registration is required.\nEmail sarah.cohen@stonybrookmedicine.edu or call 631.644.6667
URL:https://parrishart.org/event/dance-for-parkinsons/2024-10-21/
LOCATION:Parrish Art Museum\, 279 Montauk Highway\, Water Mill\, NY\, 11976\, United States
CATEGORIES:Access Parrish
ATTACH;FMTTYPE=image/jpeg:https://parrishart.org/wp-content/uploads/2024/04/DancePD-8069-by-Amber-Star-Merkens.jpeg
END:VEVENT
BEGIN:VEVENT
DTSTART;TZID=America/New_York:20241024T110000
DTEND;TZID=America/New_York:20241024T120000
DTSTAMP:20260420T144845
CREATED:20240929T183254Z
LAST-MODIFIED:20240929T183254Z
UID:10004007-1729767600-1729771200@parrishart.org
SUMMARY:Drumming Workshops
DESCRIPTION:Come experience the physical\, cognitive\, and psychological benefits of percussion with drummer and music therapist Michael Guglielmo. \n\nFree program\, Registration is required.\nEmail carol.hartmann@adrc.org or call 631.580.4417
URL:https://parrishart.org/event/drumming-workshops/2024-10-24/
LOCATION:Parrish Art Museum\, 279 Montauk Highway\, Water Mill\, NY\, 11976\, United States
CATEGORIES:Access Parrish,Music
ATTACH;FMTTYPE=image/png:https://parrishart.org/wp-content/uploads/2024/09/Screenshot-2024-09-29-at-2.27.45 PM.png
END:VEVENT
BEGIN:VEVENT
DTSTART;TZID=America/New_York:20241028T130000
DTEND;TZID=America/New_York:20241028T140000
DTSTAMP:20260420T144845
CREATED:20240929T184422Z
LAST-MODIFIED:20250131T162912Z
UID:10004011-1730120400-1730124000@parrishart.org
SUMMARY:Dance for Parkinson's
DESCRIPTION:Increase coordination\, balance\, flexibility\, strength\, and joy through music and movement with dancer and teacher Donna Kaz\, who was trained by the Mark Morris Dance Group’s Dance for Parkinson’s Disease program. \n\nFree program. Registration is required.\nEmail sarah.cohen@stonybrookmedicine.edu or call 631.644.6667
URL:https://parrishart.org/event/dance-for-parkinsons/2024-10-28/
LOCATION:Parrish Art Museum\, 279 Montauk Highway\, Water Mill\, NY\, 11976\, United States
CATEGORIES:Access Parrish
ATTACH;FMTTYPE=image/jpeg:https://parrishart.org/wp-content/uploads/2024/04/DancePD-8069-by-Amber-Star-Merkens.jpeg
END:VEVENT
BEGIN:VEVENT
DTSTART;TZID=America/New_York:20241031T110000
DTEND;TZID=America/New_York:20241031T120000
DTSTAMP:20260420T144845
CREATED:20240929T190040Z
LAST-MODIFIED:20240929T190040Z
UID:10004017-1730372400-1730376000@parrishart.org
SUMMARY:Healing Through Art
DESCRIPTION:Explore works of art in our galleries and participate in a hands-on artmaking experience with museum educator Wendy Gottlieb. \nFree program. Registration is required.\nEmail ragan.finalborgo@stonybrookmedicine.edu or call 631.726.8600
URL:https://parrishart.org/event/healing-through-art/2024-10-31/
LOCATION:Parrish Art Museum\, 279 Montauk Highway\, Water Mill\, NY\, 11976\, United States
CATEGORIES:Access Parrish
ATTACH;FMTTYPE=image/png:https://parrishart.org/wp-content/uploads/2024/09/Screenshot-2024-09-29-at-2.59.48 PM.png
END:VEVENT
END:VCALENDAR