BEGIN:VCALENDAR
VERSION:2.0
PRODID:-//Parrish Art Museum - ECPv6.10.2//NONSGML v1.0//EN
CALSCALE:GREGORIAN
METHOD:PUBLISH
X-WR-CALNAME:Parrish Art Museum
X-ORIGINAL-URL:https://parrishart.org
X-WR-CALDESC:Events for Parrish Art Museum
REFRESH-INTERVAL;VALUE=DURATION:PT1H
X-Robots-Tag:noindex
X-PUBLISHED-TTL:PT1H
BEGIN:VTIMEZONE
TZID:America/New_York
BEGIN:DAYLIGHT
TZOFFSETFROM:-0500
TZOFFSETTO:-0400
TZNAME:EDT
DTSTART:20200308T070000
END:DAYLIGHT
BEGIN:STANDARD
TZOFFSETFROM:-0400
TZOFFSETTO:-0500
TZNAME:EST
DTSTART:20201101T060000
END:STANDARD
END:VTIMEZONE
BEGIN:VEVENT
DTSTART;TZID=America/New_York:20200717T100000
DTEND;TZID=America/New_York:20200717T123000
DTSTAMP:20260419T112314
CREATED:20200304T202528Z
LAST-MODIFIED:20200520T201628Z
UID:10002692-1594980000-1594989000@parrishart.org
SUMMARY:Painting the East End en Plein Air with Barbara Thomas
DESCRIPTION:Series of four Fridays\, July 3\, 10\, 17 and 24\, 10 am–12:30 pm \nExplore painting en plein air in a variety of settings. Locations include regional gardens and the Parrish landscape. Open to adults and youth age 15+. All skill levels are welcome. Participants will arrange for their own materials; a supply list and direction to locations will be provided. \n$425 | $300 Members \nREGISTER \nAs we look forward to summer 2020 at the Parrish\, we are monitoring regional government guidelines and proactively undertaking measures to plan a safe environment at all Museum activities.
URL:https://parrishart.org/event/painting-the-east-end-en-plein-air-with-barbara-thomas/2020-07-17/
LOCATION:Parrish Art Museum\, 279 Montauk Highway\, Water Mill\, NY\, 11976\, United States
CATEGORIES:Adult Art Classes,Classes and Workshops
ATTACH;FMTTYPE=image/jpeg:https://parrishart.org/wp-content/uploads/2019/02/AdultEd-PleinAir-BarbaraThomas-Resize-e1549650039957.jpg
END:VEVENT
BEGIN:VEVENT
DTSTART;TZID=America/New_York:20200717T110000
DTEND;TZID=America/New_York:20200717T163000
DTSTAMP:20260419T112314
CREATED:20191120T145856Z
LAST-MODIFIED:20210309T174227Z
UID:10002381-1594983600-1595003400@parrishart.org
SUMMARY:What We See\, How We See
DESCRIPTION:What We See\, How We See is a seven-part exhibition that contextualizes work by a variety of artists through the lens of how they see and interpret the world around them. Individual galleries based on specific themes feature paintings\, works on paper\, photographs\, and sculpture\, opening with the diverse image making of artists Richard Prince\, Dorothea Rockburne\, and David Salle\, among others. Circles\, Squares\, and Squiggles explores abstract gestures through works by Jennifer Bartlett\, Willem de Kooning\, and Perle Fine; Portraits by Chuck Close\, Till Freiwald and others reveal their subjects in larger than life paintings; and American Landscapes highlights work from the Parrish’s renowned holdings. Two galleries bring to light bodies of work by single artists\, from the tragic-comic world view of Saul Steinberg (a major gift from the Saul Steinberg Foundation that comprises works on paper\, wallpaper and fabric)\, to the joyful imagery of Tom Slaughter.
URL:https://parrishart.org/event/what-we-see-how-we-see-2-2020-07-16/2020-07-17/
LOCATION:Parrish Art Museum\, 279 Montauk Highway\, Water Mill\, NY\, 11976\, United States
CATEGORIES:Exhibitions
ATTACH;FMTTYPE=image/jpeg:https://parrishart.org/wp-content/uploads/2019/11/Charles-Bell-Before-the-Journey-1986.jpg
END:VEVENT
BEGIN:VEVENT
DTSTART;TZID=America/New_York:20200717T180000
DTEND;TZID=America/New_York:20200717T193000
DTSTAMP:20260419T112314
CREATED:20200702T185327Z
LAST-MODIFIED:20200728T193145Z
UID:10000830-1595008800-1595014200@parrishart.org
SUMMARY:Music on the Terrace: Hector Martignon and the Foreign Affair
DESCRIPTION:Two-time Grammy nominee Hector Martignon will return to the Parrish with a stellar lineup from the Foreign Affair Quartet including Christos Rafalides (vibes)\, Gabriel Vivas (bass) and Samuel Torres (percussion). The quartet has performed at the Brooklyn Academy of Music’s annual “The Next Wave” festival and at leading jazz venues in New York including Joe’s Pub/The Public Theater\, nationally\, and worldwide. A master in fusing traditional Latin American tunes\, European classical music\, and Afro-Cuban jazz\, Colombian-born and New York-based Martignon has composed\, orchestrated\, produced\, performed\, and recorded music in a wide spectrum of genres\, from classical and crossover\, to jazz and world music\, to rock and pop. \nAdvance ticket purchase with pre-event registration is required. \nAll tickets are sold pre-event and online only. No sales at the door. All sales are final\, non-transferable\, and non-refundable. \nThe event takes place outdoors on the Museum’s terrace\, with possible use of the Event Lawn in good weather. Please bring your own chairs\, no Museum seating is available.  \nYou must wear a mask to access the event. The event is limited capacity with designated seating areas based on safe social distancing. Face coverings must be worn when in aisles or moving through spaces. \nNo outside food or drink is permitted. Individually packaged food and drinks will be available to pre-purchase through the cafe vendor\, Elegant Affairs. A link to purchase items will be sent to you the week of the program.  \nRestrooms will be open during the event. Hand sanitizer and wipes will be available. The Parrish is being regularly disinfected for the safety of our staff and visitors. \n  \nFriday Nights at the Parrish are made possible\, in part\, by Presenting Sponsor:Additional support provided by Sandy and Stephen Perlbinder.
URL:https://parrishart.org/event/hector-martignon-and-the-foreign-affair/
LOCATION:Parrish Art Museum\, 279 Montauk Highway\, Water Mill\, NY\, 11976\, United States
CATEGORIES:Friday Nights,Talks,Upcoming
ATTACH;FMTTYPE=image/jpeg:https://parrishart.org/wp-content/uploads/2020/07/HectorMartignon_SEP2018_CorinneErni_edited-scaled.jpg
END:VEVENT
END:VCALENDAR