BEGIN:VCALENDAR
VERSION:2.0
PRODID:-//Parrish Art Museum - ECPv6.10.2//NONSGML v1.0//EN
CALSCALE:GREGORIAN
METHOD:PUBLISH
X-WR-CALNAME:Parrish Art Museum
X-ORIGINAL-URL:https://parrishart.org
X-WR-CALDESC:Events for Parrish Art Museum
REFRESH-INTERVAL;VALUE=DURATION:PT1H
X-Robots-Tag:noindex
X-PUBLISHED-TTL:PT1H
BEGIN:VTIMEZONE
TZID:America/New_York
BEGIN:DAYLIGHT
TZOFFSETFROM:-0500
TZOFFSETTO:-0400
TZNAME:EDT
DTSTART:20200308T070000
END:DAYLIGHT
BEGIN:STANDARD
TZOFFSETFROM:-0400
TZOFFSETTO:-0500
TZNAME:EST
DTSTART:20201101T060000
END:STANDARD
END:VTIMEZONE
BEGIN:VEVENT
DTSTART;TZID=America/New_York:20200110T100000
DTEND;TZID=America/New_York:20200110T200000
DTSTAMP:20260422T074053
CREATED:20191120T150720Z
LAST-MODIFIED:20191120T150720Z
UID:10002624-1578650400-1578686400@parrishart.org
SUMMARY:Artists Choose Artists 2019
DESCRIPTION:Artists Choose Artists is the Parrish Art Museum’s triennial exhibition that highlights the dynamic relationships among the multi-generational artist community of Long Island’s East End. Artists Choose Artists is designed to catalyze creative networks and encourage mentorship and conversations between artists at varying stages in their careers. \n\n\n\nSeven notable artists of the region will jury the exhibition. Each juror selects two artists based on submissions and subsequent studio visits. The exhibition will comprise the work of the seven jurors and the fourteen artists and may include painting\, sculpture\, photography\, prints\, and mixed media.
URL:https://parrishart.org/event/artists-choose-artists-2019-2/2020-01-10/
LOCATION:Parrish Art Museum\, 279 Montauk Highway\, Water Mill\, NY\, 11976\, United States
CATEGORIES:Exhibitions
ATTACH;FMTTYPE=image/jpeg:https://parrishart.org/wp-content/uploads/2019/01/Giovan_Beauty-Salon-in-Vedado-Havana-Cuba.jpg
END:VEVENT
BEGIN:VEVENT
DTSTART;TZID=America/New_York:20200110T180000
DTEND;TZID=America/New_York:20200110T200000
DTSTAMP:20260422T074053
CREATED:20191011T170712Z
LAST-MODIFIED:20200110T232536Z
UID:10000755-1578679200-1578686400@parrishart.org
SUMMARY:TALK: The Artist's View: Artists Choose Artists
DESCRIPTION:  \nJoin this multigenerational group of artists who all address environmental issues from different vantage points—Juror Lillian Ball\, her two selectees Scott Bluedorn and Janet Culbertson\, and Irina Alimanestianu (selected by Alexis Rockman)—as they converse with ecologist Carl Safina about how art and science can interact to draw attention to these issues. Moderated by Corinne Erni\, Senior Curator of ArtsReach and Special Projects. The program will take place in the Lichtenstein Theater\, followed by informal visits to the galleries. \nAn ecological artist and pro-activist who works with wetland issues from interdisciplinary backgrounds in anthropology\, ethnographic film\, and sculpture\, Lillian Ball (American\, b. 1955) believes that innovative artwork with stakeholders on conservation initiatives benefits wildlife\, communities\, and visitors. Her WATERWASH® public projects along the Bronx River and Mattituck Inlet combine native habitat restoration\, stormwater remediation\, and preservation. Ball’s documentary Sanctuary depicts efforts by a Buddhist monk to preserve native flora and fauna in Lumbini\, Nepal\, to protect the Sarus cranes nesting at Buddha’s birthplace\, endangered by over-development. Ball exhibits and lectures at international institutions including at Kathmandu’s Taragaon Museum; Seville Biennale; and Reina Sofia\, Madrid. Awards include NYFA Fellowships\, Guggenheim Foundation Fellowship\, and NEA grant. \nIrina Alimanestianu’s (American\, b. 1957) paintings have been shown in numerous exhibitions in Los Angeles and New York\, and her writings on art and artists have appeared in Art Issues and other publications. On view in Artists Choose Artists is the mixed media\, large-scale painting Deep Sea Vent (2017)\, which combines oil\, ink\, pencil\, glitter\, and watercolor on oil paper in an explosion of organic shapes and dynamic color. Akin to the way natural elements or instances in life seek equilibrium after disruption\, the artist introduces chaos before returning to harmony. Born in Nyack\, NY\, and raised in New York\, Switzerland\, and France\, Alimanestianu has a BFA from New York University\, an MBA from Columbia University\, and an MFA from Claremont Graduate University. \nScott Bluedorn (American\, b. 1986) addresses climate change by integrating cultural anthropology\, primitivism\, and nautical tradition into his imagery that speaks to the collective unconscious\, particularly through myth and visual storytelling\, in a world he refers to as “maritime cosmology.” His new large-scale drawing Genesis Flux is a surreal vision of climactic upheaval\, including change\, renewal\, and flux in the unnatural Anthropocene era and sixth mass extinction. The drawing Integrated Ocean Energy Farm is the artist’s proposition to repurpose existing structures like oil drilling platforms into floating multipurpose ‘farms’ for growing kelp (for food\, biofuels\, and regenerative ecosystem services)\, while combining value-added energy production including solar\, wind\, and wave power. Bluedorn\, who received his BFA from the School of Visual Arts in New York (2009)\, lives and works in East Hampton\, NY. \nThrough her extensive travels to experience the planet\, eco-feminist and activist Janet Culbertson (American\, b. 1932) has painted the dark volcanic islands of the Galapagos\, the vanishing animals of Africa\, and the degradation of the earth’s once wild places. Galapagos Tortoise (1975)\, a 90 x 72 inch portrait on view in Artists Choose Artists\, is majestic even as the creature seems to fade and decompose; Abyss (1976–2003) is an unapologetic representation of a dystopic exploitation of nature. Culbertson\, who lives and works in Shelter Island\, NY\, was raised in Western Pennsylvania\, where she attended Carnegie Mellon University. She relocated to New York in 1954 to earn her Masters from NYU\, and taught painting at Pace University and Pratt Art Institute. \nCarl Safina is the first Endowed Professor for Nature and Humanity at Stony Brook University (where he formerly co-chaired the Alan Alda Center for Communicating Science)\, and he leads the not-for-profit Safina Center. His writing about the living world has won a MacArthur “Genius” Award\, Pew\, and Guggenheim Fellowships; book awards from Lannan\, Orion\, and the National Academies; and the John Burroughs\, James Beard\, and George Rabb medals. His seabird studies earned him a PhD in ecology from Rutgers. Safina spent a decade working to ban high-seas drift nets and to overhaul U.S. fishing policy and hosted the PBS series Saving the Ocean. He is author of Song for the Blue Ocean; and his seventh book is Beyond Words; What Animals Think and Feel. \n  \n\n\n\n\n\n\n\nArtists Choose Artists is the Parrish Art Museum’s triennial exhibition that highlights the dynamic relationships among the multi-generational artist community of Long Island’s East End\, encouraging mentorship and conversations between artists at varying stages in their careers. \n\n\nLearn more about Artists Choose Artists 2019 \n\n\n\n\n\n\n\n\n\n\n\n\n\nThe Artists Choose Artists exhibition is made possible\, in part\, thanks to the generous support of the Robert Lehman Foundation; The Evelyn Toll Family Foundation; Jacqueline Brody; Herman Goldman Foundation; Linda and Gregory Fischbach\, and Fred Schmeltzer. \n\nFriday Nights are made possible\, in part\, by Presenting Sponsor:\nAdditional support provided by The Corcoran Group and Sandy and Stephen Perlbinder.\n 
URL:https://parrishart.org/event/gallery-talk-the-artists-view-artists-choose-artists3/
LOCATION:Parrish Art Museum\, 279 Montauk Highway\, Water Mill\, NY\, 11976\, United States
CATEGORIES:Friday Nights,Talks
ATTACH;FMTTYPE=image/jpeg:https://parrishart.org/wp-content/uploads/2019/10/stitch01.jpg
END:VEVENT
END:VCALENDAR