BEGIN:VCALENDAR
VERSION:2.0
PRODID:-//Parrish Art Museum - ECPv6.10.2//NONSGML v1.0//EN
CALSCALE:GREGORIAN
METHOD:PUBLISH
X-ORIGINAL-URL:https://parrishart.org
X-WR-CALDESC:Events for Parrish Art Museum
REFRESH-INTERVAL;VALUE=DURATION:PT1H
X-Robots-Tag:noindex
X-PUBLISHED-TTL:PT1H
BEGIN:VTIMEZONE
TZID:America/New_York
BEGIN:DAYLIGHT
TZOFFSETFROM:-0500
TZOFFSETTO:-0400
TZNAME:EDT
DTSTART:20190310T070000
END:DAYLIGHT
BEGIN:STANDARD
TZOFFSETFROM:-0400
TZOFFSETTO:-0500
TZNAME:EST
DTSTART:20191103T060000
END:STANDARD
END:VTIMEZONE
BEGIN:VEVENT
DTSTART;TZID=America/New_York:20191227T100000
DTEND;TZID=America/New_York:20191227T200000
DTSTAMP:20260425T221318
CREATED:20191120T150720Z
LAST-MODIFIED:20191120T150720Z
UID:10002622-1577440800-1577476800@parrishart.org
SUMMARY:Artists Choose Artists 2019
DESCRIPTION:Artists Choose Artists is the Parrish Art Museum’s triennial exhibition that highlights the dynamic relationships among the multi-generational artist community of Long Island’s East End. Artists Choose Artists is designed to catalyze creative networks and encourage mentorship and conversations between artists at varying stages in their careers. \n\n\n\nSeven notable artists of the region will jury the exhibition. Each juror selects two artists based on submissions and subsequent studio visits. The exhibition will comprise the work of the seven jurors and the fourteen artists and may include painting\, sculpture\, photography\, prints\, and mixed media.
URL:https://parrishart.org/event/artists-choose-artists-2019-2/2019-12-27/
LOCATION:Parrish Art Museum\, 279 Montauk Highway\, Water Mill\, NY\, 11976\, United States
CATEGORIES:Exhibitions
ATTACH;FMTTYPE=image/jpeg:https://parrishart.org/wp-content/uploads/2019/01/Giovan_Beauty-Salon-in-Vedado-Havana-Cuba.jpg
END:VEVENT
BEGIN:VEVENT
DTSTART;TZID=America/New_York:20191227T130000
DTEND;TZID=America/New_York:20191227T150000
DTSTAMP:20260425T221318
CREATED:20191203T150237Z
LAST-MODIFIED:20191203T180530Z
UID:10002632-1577451600-1577458800@parrishart.org
SUMMARY:Winter Vacation Art Workshop: Holiday Still Life
DESCRIPTION:For children age 6 and older \nCelebrate winter break at the Parrish with creative workshops and visual arts. In this workshop\, children will create holiday still life drawings. Each class will begin with a gallery tour. \nSpace is limited and advance registration and payment are required. \nREGISTER  \n\nA cancellation up to 7 days prior to the first day of Winter Vacation Workshops will guarantee a 100% refund. No refunds will be given after that time. The Parrish is not responsible for providing refunds for classes missed as a result of student illness\, student emergencies or events beyond our control. The Museum reserves the right to cancel any class which does not meet minimum enrollment requirements
URL:https://parrishart.org/event/winter-vacation-art-workshop-holiday-still-life/
LOCATION:Parrish Art Museum\, 279 Montauk Highway\, Water Mill\, NY\, 11976\, United States
CATEGORIES:Classes and Workshops
ATTACH;FMTTYPE=image/jpeg:https://parrishart.org/wp-content/uploads/2019/12/OpenStudios-Family-06302018-004-Copy.jpg
END:VEVENT
BEGIN:VEVENT
DTSTART;TZID=America/New_York:20191227T180000
DTEND;TZID=America/New_York:20191227T193000
DTSTAMP:20260425T221318
CREATED:20191016T202302Z
LAST-MODIFIED:20191203T195232Z
UID:10000762-1577469600-1577475000@parrishart.org
SUMMARY:FAMILY FILM: Ernest and Celestine
DESCRIPTION:Ernest & Celestine – Official US Trailer\nAcademy Award nominee for Best Animated Feature\, ERNEST & CELESTINE is now in theaters\, and coming to DVD\, Blu-ray and digital formats on June 17! Pre-order your copy now at: http://amzn.to/1jUPTmm Deep below snowy\, cobblestone streets\, tucked away in networks of winding subterranean tunnels\, lives a civilization of hardworking mice\, terrified of the bears who live above ground. \n\n\nFree with Museum Admission \nORDER TICKETS \n2012\, PG\, 80 minutes \nDirector: Benjamin Renner\, Stéphane Aubier\, and Vincent Patar \nBased on the classic Belgian book series by Gabrielle Vincent\, Ernest & Celestine details an unexpected friendship which develops between a mouse and a bear. Celestine is an artist and a dreamer – and when she nearly ends up as breakfast for Ernest\, the two form an unlikely bond. But it isn’t long before their friendship is put on trial by their respective bear-fearing and mice-eating communities. \nErnest & Celestine won France’s César Award for Best Animated Feature\, and has been nominated for Best Animated Feature at the 86th Academy Awards®. \nFriday Nights are made possible\, in part\, by Presenting Sponsor:\nAdditional support provided by The Corcoran Group and Sandy and Stephen Perlbinder.
URL:https://parrishart.org/event/film-ernest-and-celestine/
LOCATION:Parrish Art Museum\, 279 Montauk Highway\, Water Mill\, NY\, 11976\, United States
CATEGORIES:Family Programs,Film,Friday Nights
ATTACH;FMTTYPE=image/jpeg:https://parrishart.org/wp-content/uploads/2019/10/ernest_hires_1.jpg
END:VEVENT
END:VCALENDAR