BEGIN:VCALENDAR
VERSION:2.0
PRODID:-//Parrish Art Museum - ECPv6.10.2//NONSGML v1.0//EN
CALSCALE:GREGORIAN
METHOD:PUBLISH
X-WR-CALNAME:Parrish Art Museum
X-ORIGINAL-URL:https://parrishart.org
X-WR-CALDESC:Events for Parrish Art Museum
REFRESH-INTERVAL;VALUE=DURATION:PT1H
X-Robots-Tag:noindex
X-PUBLISHED-TTL:PT1H
BEGIN:VTIMEZONE
TZID:America/New_York
BEGIN:DAYLIGHT
TZOFFSETFROM:-0500
TZOFFSETTO:-0400
TZNAME:EDT
DTSTART:20190310T070000
END:DAYLIGHT
BEGIN:STANDARD
TZOFFSETFROM:-0400
TZOFFSETTO:-0500
TZNAME:EST
DTSTART:20191103T060000
END:STANDARD
END:VTIMEZONE
BEGIN:VEVENT
DTSTART;TZID=America/New_York:20190518T100000
DTEND;TZID=America/New_York:20190518T170000
DTSTAMP:20260423T215603
CREATED:20190313T201244Z
LAST-MODIFIED:20190429T194247Z
UID:10000855-1558173600-1558198800@parrishart.org
SUMMARY:Thomas Joshua Cooper: Refuge
DESCRIPTION:May 5\, 2019 to July 28\, 2019\n\n\n\n\n\nThroughout his career\, Thomas Joshua Cooper has been preoccupied with water as a focal point for his abiding fascination with the landscape\, historical and cultural geography\, cartography\, and the problems of picture-making. Thomas Joshua Cooper: Refuge\, features more than 49 photographs\, anchored by the 20 images Cooper made along the coastal and inland waterways and interior landscapes throughout the East End of Long Island’s North and South Forks\, and Shelter Island. These pictures are framed by a precise selection of pictures made over the course of several years along sites on the Hudson River as it passes through Essex\, Warren\, Saratoga\, Rensselaer\, and Dutchess counties\, and a select group from Connecticut\, Maine\, and Massachusetts\, which Cooper includes to emphasize his notion of refuge\, immigration and settlement. The images of the East End of Long Island were made during Cooper’s 10-day Parrish Art Museum residency. \nThe exhibition\, Thomas Joshua Cooper: Refuge\, is made possible\, in part\, by the generous leadership support of Century Arts Foundation\, Lannan Foundation\, The Liliane and Norman Peck Fund for Exhibitions\, The Mr. and Mrs. Raymond J. Horowitz Fund for Publications\, Linda Hackett and Melinda Hackett/ CAL Foundation\, and Joyce Menschel.
URL:https://parrishart.org/event/thomas-joshua-cooper-refuge/2019-05-18/
LOCATION:Parrish Art Museum\, 279 Montauk Highway\, Water Mill\, NY\, 11976\, United States
ATTACH;FMTTYPE=image/jpeg:https://parrishart.org/wp-content/uploads/2018/11/3.jpg
END:VEVENT
BEGIN:VEVENT
DTSTART;TZID=America/New_York:20190518T100000
DTEND;TZID=America/New_York:20190518T170000
DTSTAMP:20260423T215603
CREATED:20190321T163604Z
LAST-MODIFIED:20190322T171211Z
UID:10000961-1558173600-1558198800@parrishart.org
SUMMARY:Renate Aller: The Space Between Memory and Expectation
DESCRIPTION:March 24–July 28\, 2019 \n\nA focused exhibition of works by the German-born photographer illuminating her exploration of the interrelationship of romanticism\, memory\, and place through dynamic compositions rich with implied narratives. The exhibition features 12 large-scale archival prints in a gallery installation specifically designed to present a compositionally unified environment. Presenting works drawn from ongoing series Ocean | Desert and Mountain Interval\, the exhibition draws together disparate landscapes through the continuity of the horizon line. Dramatic images of the Atlantic Ocean\, vast sand dunes in New Mexico and Colorado\, and the majestic mountain ranges in Alaska\, Switzerland\, Italy\, and Nepal come together to explore “the interval\, the space in between … during which apparently nothing happens\, but without which no change could happen\,” Aller explains. “The Space Between Memory and Expectation is another way to describe this state of stillness and transition.”A part of Parrish Perspectives—a series of concentrated exhibitions that offers the Museum opportunities to respond spontaneously and directly to unique ways of thinking about art\, artists\, and the creative process. In the immersive installation\, seven photographs of dramatic ranges and peaks from Mountain Interval are aligned with five prints from Ocean | Desert—broad expanses of sea and sand. The viewer is surrounded by a panorama that smoothly transitions from mountains to ocean as the eye is guided from image to image along a compositionally coherent horizon line.  \nRenate Aller: The Space Between Memory and Expectation is made possible\, in part\, by the support of Krista and Michael Dumas\, Janice Sarah Hope\, Adam Miller Group\, Marc Olivié and Marleen De Bode Olivié\, and Michèle and Steven Pesner.
URL:https://parrishart.org/event/renate-aller-the-space-between-memory-and-expectation/2019-05-18/
LOCATION:Parrish Art Museum\, 279 Montauk Highway\, Water Mill\, NY\, 11976\, United States
CATEGORIES:Exhibitions
ATTACH;FMTTYPE=image/jpeg:https://parrishart.org/wp-content/uploads/2019/03/012-Alaska-Valdez-Renate-Aller.jpg
END:VEVENT
BEGIN:VEVENT
DTSTART;TZID=America/New_York:20190518T100000
DTEND;TZID=America/New_York:20190518T170000
DTSTAMP:20260423T215604
CREATED:20190321T164621Z
LAST-MODIFIED:20190322T171346Z
UID:10001073-1558173600-1558198800@parrishart.org
SUMMARY:Jean-Luc Mylane: A Matter of Place
DESCRIPTION:March 24–July 28\, 2019 \nMonumentally scaled photographs by the French artist who juxtaposes natural and man-made\, stillness and motion\, calm and tension within poetic and mysterious photographs. The exhibition reflects the artist’s almost metaphysical approach to image-making. Through his lifetime pursuit to photograph commonplace birds in natural habitats\, Mylayne has engaged in a profound investigation of how humankind and nature can coexist. The exhibition features nine images made in New Mexico and Texas\, gifted to the Parrish by the artist and the Lannan Foundation. A Matter of Place is part of Parrish Perspectives—a series of concentrated exhibitions that offers the Museum opportunities to respond spontaneously and directly to art\, artists\, and the creative process.
URL:https://parrishart.org/event/jean-luc-mylane-a-matter-of-place/2019-05-18/
LOCATION:Parrish Art Museum\, 279 Montauk Highway\, Water Mill\, NY\, 11976\, United States
CATEGORIES:Exhibitions
ATTACH;FMTTYPE=image/jpeg:https://parrishart.org/wp-content/uploads/2019/03/1.-No.-186.jpg
END:VEVENT
BEGIN:VEVENT
DTSTART;TZID=America/New_York:20190518T100000
DTEND;TZID=America/New_York:20190518T170000
DTSTAMP:20260423T215604
CREATED:20190321T170208Z
LAST-MODIFIED:20190507T155747Z
UID:10001326-1558173600-1558198800@parrishart.org
SUMMARY:Every Picture Tells a Story: Work from the Permanent Collection
DESCRIPTION:November 11\, 2018 to October 6\, 2019 \nEach year\, the Museum creates a new exhibition that contextualizes work and amplifies inherent themes by important artists in the Parrish collection of more than 3\,000 works. This year’s seven-gallery installation\, Every Picture Tells a Story\, presents a series of focused exhibitions that explore the many ways that images carry narrative meaning. \nEvery Picture Tells a Story\, the 2018 Permanent Collection Exhibition\, has been made possible\, in part\, by the generous support of Barbara Slifka; Ellen Cantrowitz\, Garrett and Mary Moran; Charlotte Moss and Barry Friedberg\, Jane and David Walentas\, Marie Samuels\, Per Skarstedt\, Deborah Buck\, and a donor who wishes to remain anonymous.
URL:https://parrishart.org/event/every-picture-tells-a-story-work-from-the-permanent-collection/2019-05-18/
LOCATION:Parrish Art Museum\, 279 Montauk Highway\, Water Mill\, NY\, 11976\, United States
CATEGORIES:Exhibitions
ATTACH;FMTTYPE=image/jpeg:https://parrishart.org/wp-content/uploads/2018/11/2000-7-1.jpg
END:VEVENT
BEGIN:VEVENT
DTSTART;TZID=America/New_York:20190518T180000
DTEND;TZID=America/New_York:20190518T200000
DTSTAMP:20260423T215604
CREATED:20190425T200816Z
LAST-MODIFIED:20190827T135400Z
UID:10000688-1558202400-1558209600@parrishart.org
SUMMARY:OFF-SITE: PARRISH ROAD SHOW  Candace Hill Montgomery: Hills & Valleys
DESCRIPTION:Opening Reception | Free and Open to the Public \n\nThe Sag Harbor Whaling and Historical Museum \n200 Main Street\, Sag Harbor\, NY 11963 \n  \nNow in its eighth year\, the Parrish Road Show is the Museum’s annual creative off-site cultural engagement program. Every year\, East End artists are invited to create new work for temporary projects and engage residents in their process. In an effort to deeply connect art and creativity to everyday life\, the exhibitions take place at public sites across the region—cultural and historical organizations\, public parks and highways\, and community centers—and the artists offer public talks and artmaking workshops for children and adults. \nFor the 2019 Parrish Road Show\, artist Candace Hill Montgomery will present Hills & Valleys\, an exhibition of recent weavings that reflect the artists’ life experiences and concerns about the world we live in\, at The Sag Harbor Whaling and Historical Museum. The location has deep meaning for Hill-Montgomery\, who grew up in Sag Harbor in summers from age 10 on. \nCandace Hill Montgomery is a multi-media artist working in painting\, collage\, writing\, sculptural textiles\, and weaving. An ardent feminist and activist\, Hill Montgomery’s work is informed by being a black female in a culture of racism and sexism while being balanced by a personal poetic lyricism. Upon moving to the East End full time in 2011\, she focused on painting\, and more recently\, weaving. Weaving\, she finds\, allows her to get her message across directly to the viewer and break away from the constraints of structure and borders of traditional painting. \nToday\, she uses a wide variety of threads\, beads and metals\, and prefers handspun wool as it absorbs dye unevenly and produces interesting colorations\, and organically dyed yarns. She uses handmade looms\, their irregularity referencing the unevenness in artmaking. All these different materials offer both strength and softness for the differing “tragicomedy” narratives of today’s world that she’s concerned about\, such as clean food and water\, or homelessness. \nHill Montgomery’s work has been featured in exhibitions in major art institutions\, including the Bronx Museum for the Arts\, New Museum\, Printed Matter\, Artists Space\, Franklin Furnace\, Fashion Moda\, and Creative Time\, among others. She was an artist-in-residence at the Studio Museum Harlem (1979)\, and a recipient of the John Simon Guggenheim Fellowship (1985) and the National Endowment for the Arts (1981). In 1985\, Hill Montgomery curated a solo exhibition of Lorna Simpson’s work with Lucy R. Lippard titled Working Women/Working Artists/Working Together at Gallery 1199. Her work is in the Digital Archive of the New Museum. Her essays have been published in the Women’s Art Journal. She received a master’s degree in Art Education from Hunter College. \nParrish Road Show is organized by Corinne Erni\, Senior Curator of ArtsReach and Special Projects \nParrish Road Show 2019 is made possible\, in part\, by the generous support of The Dorothy Lichtenstein ArtsReach Fund\, established by Agnes Gund; Deborah Buck; Sandy and Stephen Perlbinder; Jane Wesman and Donald Savelson; Leslie Rose Close; and Joni Sternbach.
URL:https://parrishart.org/event/road-show-2019-opening-reception/
LOCATION:The Sag Harbor Whaling Museum\, 200 Main Street\, Sag Harbor\, NY\, 11963\, United States
CATEGORIES:Exhibitions,Road Show Openings,Upcoming
ATTACH;FMTTYPE=image/jpeg:https://parrishart.org/wp-content/uploads/2019/05/Road-Show-Invite.jpg
END:VEVENT
END:VCALENDAR