BEGIN:VCALENDAR
VERSION:2.0
PRODID:-//Parrish Art Museum - ECPv6.10.2//NONSGML v1.0//EN
CALSCALE:GREGORIAN
METHOD:PUBLISH
X-WR-CALNAME:Parrish Art Museum
X-ORIGINAL-URL:https://parrishart.org
X-WR-CALDESC:Events for Parrish Art Museum
REFRESH-INTERVAL;VALUE=DURATION:PT1H
X-Robots-Tag:noindex
X-PUBLISHED-TTL:PT1H
BEGIN:VTIMEZONE
TZID:America/New_York
BEGIN:DAYLIGHT
TZOFFSETFROM:-0500
TZOFFSETTO:-0400
TZNAME:EDT
DTSTART:20190310T070000
END:DAYLIGHT
BEGIN:STANDARD
TZOFFSETFROM:-0400
TZOFFSETTO:-0500
TZNAME:EST
DTSTART:20191103T060000
END:STANDARD
END:VTIMEZONE
BEGIN:VEVENT
DTSTART;TZID=America/New_York:20190510T100000
DTEND;TZID=America/New_York:20190510T123000
DTSTAMP:20260424T100807
CREATED:20190326T190756Z
LAST-MODIFIED:20190429T185743Z
UID:10000676-1557482400-1557491400@parrishart.org
SUMMARY:DRAWING: Basics and Beyond with Barbara Thomas
DESCRIPTION:Class is fully enrolled \n\nFour week series of classes: Fridays\, May 3\, 10\, 17 and 24\, 10am–12:30pm \nDrawing is the basis of all art-making. This workshop will address everything from the fundamentals to more complex techniques for achieving effects with drawing. Explore the varieties of mark-making and experience the breadth of drawing techniques from fine rendering to rhythmic expression. Work with a variety of drawing tools from charcoal and graphite to pen and India ink. \nMaterials will be provided. \n$210 | $175 Members
URL:https://parrishart.org/event/drawing-basics-and-beyond-with-barbara-thomas/2019-05-10/
LOCATION:Parrish Art Museum\, 279 Montauk Highway\, Water Mill\, NY\, 11976\, United States
CATEGORIES:Adult Art Classes,Classes and Workshops
ATTACH;FMTTYPE=image/jpeg:https://parrishart.org/wp-content/uploads/2019/03/Courtesy-of-Barbara-Thomas.jpg
END:VEVENT
BEGIN:VEVENT
DTSTART;TZID=America/New_York:20190510T100000
DTEND;TZID=America/New_York:20190510T170000
DTSTAMP:20260424T100807
CREATED:20190313T202423Z
LAST-MODIFIED:20190429T194146Z
UID:10000908-1557482400-1557507600@parrishart.org
SUMMARY:Thomas Joshua Cooper: Refuge
DESCRIPTION:May 5\, 2019 to July 28\, 2019\n\n\n\n\n\nThroughout his career\, Thomas Joshua Cooper has been preoccupied with water as a focal point for his abiding fascination with the landscape\, historical and cultural geography\, cartography\, and the problems of picture-making. Thomas Joshua Cooper: Refuge\, features more than 49 photographs\, anchored by the 20 images Cooper made along the coastal and inland waterways and interior landscapes throughout the East End of Long Island’s North and South Forks\, and Shelter Island. These pictures are framed by a precise selection of pictures made over the course of several years along sites on the Hudson River as it passes through Essex\, Warren\, Saratoga\, Rensselaer\, and Dutchess counties\, and a select group from Connecticut\, Maine\, and Massachusetts\, which Cooper includes to emphasize his notion of refuge\, immigration and settlement. The images of the East End of Long Island were made during Cooper’s 10-day Parrish Art Museum residency. \nThe exhibition\, Thomas Joshua Cooper: Refuge\, is made possible\, in part\, by the generous leadership support of Century Arts Foundation\, Lannan Foundation\, The Liliane and Norman Peck Fund for Exhibitions\, The Mr. and Mrs. Raymond J. Horowitz Fund for Publications\, Linda Hackett and Melinda Hackett/ CAL Foundation\, and Joyce Menschel.
URL:https://parrishart.org/event/thomas-joshua-cooper-refuge-2/2019-05-10/
LOCATION:Parrish Art Museum\, 279 Montauk Highway\, Water Mill\, NY\, 11976\, United States
ATTACH;FMTTYPE=image/jpeg:https://parrishart.org/wp-content/uploads/2018/11/3.jpg
END:VEVENT
BEGIN:VEVENT
DTSTART;TZID=America/New_York:20190510T100000
DTEND;TZID=America/New_York:20190510T200000
DTSTAMP:20260424T100807
CREATED:20190321T163805Z
LAST-MODIFIED:20190321T164055Z
UID:10001020-1557482400-1557518400@parrishart.org
SUMMARY:Renate Aller: The Space Between Memory and Expectation
DESCRIPTION:March 24–July 28\, 2019 \n\n\n\n\n\n\n\n\n\n\n\n\n\nA focused exhibition of works by the German-born photographer illuminating her exploration of the interrelationship of romanticism\, memory\, and place through dynamic compositions rich with implied narratives. The exhibition features 12 large-scale archival prints in a gallery installation specifically designed to present a compositionally unified environment. Presenting works drawn from ongoing series Ocean | Desert and Mountain Interval\, the exhibition draws together disparate landscapes through the continuity of the horizon line. Dramatic images of the Atlantic Ocean\, vast sand dunes in New Mexico and Colorado\, and the majestic mountain ranges in Alaska\, Switzerland\, Italy\, and Nepal come together to explore “the interval\, the space in between … during which apparently nothing happens\, but without which no change could happen\,” Aller explains. “The Space Between Memory and Expectation is another way to describe this state of stillness and transition.”A part of Parrish Perspectives—a series of concentrated exhibitions that offers the Museum opportunities to respond spontaneously and directly to unique ways of thinking about art\, artists\, and the creative process. In the immersive installation\, seven photographs of dramatic ranges and peaks from Mountain Interval are aligned with five prints from Ocean | Desert—broad expanses of sea and sand. The viewer is surrounded by a panorama that smoothly transitions from mountains to ocean as the eye is guided from image to image along a compositionally coherent horizon line.\n\nRenate Aller: The Space Between Memory and Expectation is made possible\, in part\, by the support of Krista and Michael Dumas\, Janice Sarah Hope\, Adam Miller Group\, Marc Olivié and Marleen De Bode Olivié\, and Michèle and Steven Pesner.
URL:https://parrishart.org/event/renate-aller-the-space-between-memory-and-expectation-2/2019-05-10/
LOCATION:Parrish Art Museum\, 279 Montauk Highway\, Water Mill\, NY\, 11976\, United States
CATEGORIES:Exhibitions
ATTACH;FMTTYPE=image/jpeg:https://parrishart.org/wp-content/uploads/2019/03/012-Alaska-Valdez-Renate-Aller.jpg
END:VEVENT
BEGIN:VEVENT
DTSTART;TZID=America/New_York:20190510T100000
DTEND;TZID=America/New_York:20190510T200000
DTSTAMP:20260424T100807
CREATED:20190321T164823Z
LAST-MODIFIED:20190321T164823Z
UID:10001131-1557482400-1557518400@parrishart.org
SUMMARY:Jean-Luc Mylane: A Matter of Place
DESCRIPTION:March 24–July 28\, 2019 \nMonumentally scaled photographs by the French artist who juxtaposes natural and man-made\, stillness and motion\, calm and tension within poetic and mysterious photographs. The exhibition reflects the artist’s almost metaphysical approach to image-making. Through his lifetime pursuit to photograph commonplace birds in natural habitats\, Mylayne has engaged in a profound investigation of how humankind and nature can coexist. The exhibition features nine images made in New Mexico and Texas\, gifted to the Parrish by the artist and the Lannan Foundation. A Matter of Place is part of Parrish Perspectives—a series of concentrated exhibitions that offers the Museum opportunities to respond spontaneously and directly to art\, artists\, and the creative process.
URL:https://parrishart.org/event/jean-luc-mylane-a-matter-of-place-2/2019-05-10/
LOCATION:Parrish Art Museum\, 279 Montauk Highway\, Water Mill\, NY\, 11976\, United States
CATEGORIES:Exhibitions
ATTACH;FMTTYPE=image/jpeg:https://parrishart.org/wp-content/uploads/2019/03/1.-No.-186.jpg
END:VEVENT
BEGIN:VEVENT
DTSTART;TZID=America/New_York:20190510T100000
DTEND;TZID=America/New_York:20190510T200000
DTSTAMP:20260424T100807
CREATED:20190321T170333Z
LAST-MODIFIED:20190410T155311Z
UID:10001454-1557482400-1557518400@parrishart.org
SUMMARY:Every Picture Tells a Story: Work from the Permanent Collection
DESCRIPTION:November 11\, 2018 to October 6\, 2019 \nEach year\, the Museum creates a new exhibition that contextualizes work and amplifies inherent themes by important artists in the Parrish collection of more than 3\,000 works. This year’s seven-gallery installation\, Every Picture Tells a Story\, presents a series of focused exhibitions that explore the many ways that images carry narrative meaning. \nEvery Picture Tells a Story\, the 2018 Permanent Collection Exhibition\, has been made possible\, in part\, by the generous support of Barbara Slifka; Ellen Cantrowitz\, Garrett and Mary Moran; Charlotte Moss and Barry Friedberg\, Jane and David Walentas\, Marie Samuels\, Per Skarstedt\, Deborah Buck\, and a donor who wishes to remain anonymous.
URL:https://parrishart.org/event/every-picture-tells-a-story/2019-05-10/
LOCATION:Parrish Art Museum\, 279 Montauk Highway\, Water Mill\, NY\, 11976\, United States
CATEGORIES:Exhibitions
ATTACH;FMTTYPE=image/jpeg:https://parrishart.org/wp-content/uploads/2018/11/2000-7-1.jpg
END:VEVENT
BEGIN:VEVENT
DTSTART;TZID=America/New_York:20190510T180000
DTEND;TZID=America/New_York:20190510T200000
DTSTAMP:20260424T100807
CREATED:20190211T173633Z
LAST-MODIFIED:20190514T142503Z
UID:10000652-1557511200-1557518400@parrishart.org
SUMMARY:SALON SERIES: Brandon Ridenour and Jeremy Jordan
DESCRIPTION:Salon Series\, the Parrish Art Museum’s concert program featuring world-class artists performing in an intimate\, casual setting\, presents trumpeter Brandon Ridenour\, and pianist Jeremy Jordan. \nA virtuoso trumpeter and composer\, Brandon Ridenour’s brilliance and self-assurance on the concert stage led to his victory at the 2014 CAG Victor Elmaleh Competition. His wide-ranging activities as a soloist and chamber musician\, paired with his passion for composing and arranging\, are manifested in his versatile performances and unique repertoire. A graduate of The Juilliard School\, Brandon won the 2006 International Trumpet Guild solo competition. \nJeremy Jordan has appeared as soloist and chamber musician at notable venues in the United States and Europe including Carnegie Hall\, Orchestra Hall in Chicago\, the Concertgebouw in Amsterdam\, and the Rudolfinum in Prague. Jeremy Jordan received his Master’s Degree from the Juilliard School of Music as a recipient of the Van Cliburn and Irene Diamond Scholarships. \n\n\n\n\nSalon Series is generously supported by Louis K. and Susan P. Meisel\, Sandy and Stephen Perlbinder\, The Jeannette and H. Peter Kriendler Charitable Trust\,  Concert Artists Guild\, and Pro Musicis\, and sponsored by Yamaha Artist Services\, Inc.\nFriday nights are made possible\, in part\, by Presenting Sponsor:\nAdditional support provided by The Corcoran Group and Sandy and Stephen Perlbinder.
URL:https://parrishart.org/event/salon-series-brandon-ridenour-and-jeremy-jorday/
LOCATION:Parrish Art Museum\, 279 Montauk Highway\, Water Mill\, NY\, 11976\, United States
CATEGORIES:Friday Nights,Music
ATTACH;FMTTYPE=image/jpeg:https://parrishart.org/wp-content/uploads/2019/02/salons-series-pic-stitch.jpg
END:VEVENT
END:VCALENDAR