BEGIN:VCALENDAR
VERSION:2.0
PRODID:-//Parrish Art Museum - ECPv6.10.2//NONSGML v1.0//EN
CALSCALE:GREGORIAN
METHOD:PUBLISH
X-ORIGINAL-URL:https://parrishart.org
X-WR-CALDESC:Events for Parrish Art Museum
REFRESH-INTERVAL;VALUE=DURATION:PT1H
X-Robots-Tag:noindex
X-PUBLISHED-TTL:PT1H
BEGIN:VTIMEZONE
TZID:America/New_York
BEGIN:DAYLIGHT
TZOFFSETFROM:-0500
TZOFFSETTO:-0400
TZNAME:EDT
DTSTART:20190310T070000
END:DAYLIGHT
BEGIN:STANDARD
TZOFFSETFROM:-0400
TZOFFSETTO:-0500
TZNAME:EST
DTSTART:20191103T060000
END:STANDARD
END:VTIMEZONE
BEGIN:VEVENT
DTSTART;TZID=America/New_York:20190502T100000
DTEND;TZID=America/New_York:20190502T170000
DTSTAMP:20260421T121508
CREATED:20190321T163604Z
LAST-MODIFIED:20190322T171211Z
UID:10000950-1556791200-1556816400@parrishart.org
SUMMARY:Renate Aller: The Space Between Memory and Expectation
DESCRIPTION:March 24–July 28\, 2019 \n\nA focused exhibition of works by the German-born photographer illuminating her exploration of the interrelationship of romanticism\, memory\, and place through dynamic compositions rich with implied narratives. The exhibition features 12 large-scale archival prints in a gallery installation specifically designed to present a compositionally unified environment. Presenting works drawn from ongoing series Ocean | Desert and Mountain Interval\, the exhibition draws together disparate landscapes through the continuity of the horizon line. Dramatic images of the Atlantic Ocean\, vast sand dunes in New Mexico and Colorado\, and the majestic mountain ranges in Alaska\, Switzerland\, Italy\, and Nepal come together to explore “the interval\, the space in between … during which apparently nothing happens\, but without which no change could happen\,” Aller explains. “The Space Between Memory and Expectation is another way to describe this state of stillness and transition.”A part of Parrish Perspectives—a series of concentrated exhibitions that offers the Museum opportunities to respond spontaneously and directly to unique ways of thinking about art\, artists\, and the creative process. In the immersive installation\, seven photographs of dramatic ranges and peaks from Mountain Interval are aligned with five prints from Ocean | Desert—broad expanses of sea and sand. The viewer is surrounded by a panorama that smoothly transitions from mountains to ocean as the eye is guided from image to image along a compositionally coherent horizon line.  \nRenate Aller: The Space Between Memory and Expectation is made possible\, in part\, by the support of Krista and Michael Dumas\, Janice Sarah Hope\, Adam Miller Group\, Marc Olivié and Marleen De Bode Olivié\, and Michèle and Steven Pesner.
URL:https://parrishart.org/event/renate-aller-the-space-between-memory-and-expectation/2019-05-02/
LOCATION:Parrish Art Museum\, 279 Montauk Highway\, Water Mill\, NY\, 11976\, United States
CATEGORIES:Exhibitions
ATTACH;FMTTYPE=image/jpeg:https://parrishart.org/wp-content/uploads/2019/03/012-Alaska-Valdez-Renate-Aller.jpg
END:VEVENT
BEGIN:VEVENT
DTSTART;TZID=America/New_York:20190502T100000
DTEND;TZID=America/New_York:20190502T170000
DTSTAMP:20260421T121508
CREATED:20190321T164621Z
LAST-MODIFIED:20190322T171346Z
UID:10001062-1556791200-1556816400@parrishart.org
SUMMARY:Jean-Luc Mylane: A Matter of Place
DESCRIPTION:March 24–July 28\, 2019 \nMonumentally scaled photographs by the French artist who juxtaposes natural and man-made\, stillness and motion\, calm and tension within poetic and mysterious photographs. The exhibition reflects the artist’s almost metaphysical approach to image-making. Through his lifetime pursuit to photograph commonplace birds in natural habitats\, Mylayne has engaged in a profound investigation of how humankind and nature can coexist. The exhibition features nine images made in New Mexico and Texas\, gifted to the Parrish by the artist and the Lannan Foundation. A Matter of Place is part of Parrish Perspectives—a series of concentrated exhibitions that offers the Museum opportunities to respond spontaneously and directly to art\, artists\, and the creative process.
URL:https://parrishart.org/event/jean-luc-mylane-a-matter-of-place/2019-05-02/
LOCATION:Parrish Art Museum\, 279 Montauk Highway\, Water Mill\, NY\, 11976\, United States
CATEGORIES:Exhibitions
ATTACH;FMTTYPE=image/jpeg:https://parrishart.org/wp-content/uploads/2019/03/1.-No.-186.jpg
END:VEVENT
BEGIN:VEVENT
DTSTART;TZID=America/New_York:20190502T100000
DTEND;TZID=America/New_York:20190502T170000
DTSTAMP:20260421T121508
CREATED:20190321T170208Z
LAST-MODIFIED:20190507T155747Z
UID:10001315-1556791200-1556816400@parrishart.org
SUMMARY:Every Picture Tells a Story: Work from the Permanent Collection
DESCRIPTION:November 11\, 2018 to October 6\, 2019 \nEach year\, the Museum creates a new exhibition that contextualizes work and amplifies inherent themes by important artists in the Parrish collection of more than 3\,000 works. This year’s seven-gallery installation\, Every Picture Tells a Story\, presents a series of focused exhibitions that explore the many ways that images carry narrative meaning. \nEvery Picture Tells a Story\, the 2018 Permanent Collection Exhibition\, has been made possible\, in part\, by the generous support of Barbara Slifka; Ellen Cantrowitz\, Garrett and Mary Moran; Charlotte Moss and Barry Friedberg\, Jane and David Walentas\, Marie Samuels\, Per Skarstedt\, Deborah Buck\, and a donor who wishes to remain anonymous.
URL:https://parrishart.org/event/every-picture-tells-a-story-work-from-the-permanent-collection/2019-05-02/
LOCATION:Parrish Art Museum\, 279 Montauk Highway\, Water Mill\, NY\, 11976\, United States
CATEGORIES:Exhibitions
ATTACH;FMTTYPE=image/jpeg:https://parrishart.org/wp-content/uploads/2018/11/2000-7-1.jpg
END:VEVENT
BEGIN:VEVENT
DTSTART;TZID=America/New_York:20190502T170000
DTEND;TZID=America/New_York:20190502T190000
DTSTAMP:20260421T121508
CREATED:20190329T134808Z
LAST-MODIFIED:20190418T153717Z
UID:10001494-1556816400-1556823600@parrishart.org
SUMMARY:Spring Awakening: Inspirational Goal Setting for Businesses and Individuals
DESCRIPTION:An experiential workshop to awaken and organize your next big achievement\nRegister \nThere are so many things we set out to accomplish that it can be difficult to get everything done or know what to do next. In this experiential presentation you will explore various stages of creativity\, set your mindset to form a clear direction\, and learn a process to put your goals into action. \nJoin us as guest speaker Erik Fredrickson leads this interactive workshop followed by networking and gallery exploration.  Areas that will be focused on will include clarifying the difference between a “want” and a “goal\,” understanding process vs. destination and a new twist to a classic goal setting system. At its conclusion\, you will have your next action steps ready for achieving your goal or rekindling your resolution. \nErik is the president of Erik Fredrickson Coaching a consulting company that focuses on business feedback/analysis\, leadership training\, and communication strategies. His work has helped many people from local personal clients in his hometown of East Hampton\, NY\, to billion dollar companies work through challenging decisions to improving communication. His expert opinions are often published in Forbes\, and he is a member of the Forbes Coaches Council. Erik enjoys collaborating with his wife Sara and spending quality time with their children. He supports charities like Paddlers For Humanity and enjoys almost all forms of fitness. Erik’s goal is to help people achieve their goals and find balance in life. \n\n“Align your actions with your aspirations.”-Erik Fredrickson \n\nThis free event is for Business Members and invited guests. Not a business member? \nJOIN TODAY! \nThis event is planned and sponsored by the Parrish Business Council\, a volunteer committee of East End professionals serving culturally engaged business leaders and organizations by providing programming and networking opportunities for Parrish Business Members. Current Councilpersons:Eugenia Au Kim\, Liz Brodar\, Keith Davis\, Emil K. Everett\, Erik Fredrickson\, Nadine Homann\, Aleksandra Kardwell\, Laura Maresca-Sanatore\, Chair Robin L. Long\, Esq\, Jan Rose\, and Diana Pepi Stott. \nFor more information\, to join or upgrade your membership\, please contact Maria Fumai Dietrich at fumaim@parrishart.org or 631-283-2118 x 149.
URL:https://parrishart.org/event/spring-awakening-inspiration-goal-setting-for-businesses/
LOCATION:Parrish Art Museum\, 279 Montauk Highway\, Water Mill\, NY\, 11976\, United States
CATEGORIES:Member Events,Talks
ATTACH;FMTTYPE=image/jpeg:https://parrishart.org/wp-content/uploads/2019/03/Erik-Fredrickson.jpg
END:VEVENT
END:VCALENDAR