BEGIN:VCALENDAR
VERSION:2.0
PRODID:-//Parrish Art Museum - ECPv6.10.2//NONSGML v1.0//EN
CALSCALE:GREGORIAN
METHOD:PUBLISH
X-ORIGINAL-URL:https://parrishart.org
X-WR-CALDESC:Events for Parrish Art Museum
REFRESH-INTERVAL;VALUE=DURATION:PT1H
X-Robots-Tag:noindex
X-PUBLISHED-TTL:PT1H
BEGIN:VTIMEZONE
TZID:America/New_York
BEGIN:DAYLIGHT
TZOFFSETFROM:-0500
TZOFFSETTO:-0400
TZNAME:EDT
DTSTART:20190310T070000
END:DAYLIGHT
BEGIN:STANDARD
TZOFFSETFROM:-0400
TZOFFSETTO:-0500
TZNAME:EST
DTSTART:20191103T060000
END:STANDARD
END:VTIMEZONE
BEGIN:VEVENT
DTSTART;VALUE=DATE:20190423
DTEND;VALUE=DATE:20190424
DTSTAMP:20260420T140503
CREATED:20190210T144304Z
LAST-MODIFIED:20190429T194446Z
UID:10000133-1555977600-1556063999@parrishart.org
SUMMARY:Museum Closed on Tuesdays
DESCRIPTION:Museum is Closed on Tuesdays. \nScheduled Workshops with pre-registration will occur.
URL:https://parrishart.org/event/museum-closed-on-tuesdays/2019-04-23/
LOCATION:Parrish Art Museum\, 279 Montauk Highway\, Water Mill\, NY\, 11976\, United States
END:VEVENT
BEGIN:VEVENT
DTSTART;TZID=America/New_York:20190423T100000
DTEND;TZID=America/New_York:20190423T130000
DTSTAMP:20260420T140503
CREATED:20190326T145637Z
LAST-MODIFIED:20190402T155741Z
UID:10000673-1556013600-1556024400@parrishart.org
SUMMARY:Stop Motion Animation 2-Day Camp
DESCRIPTION:For children age 7 – 12\nApril 22 and 23\, 10 am–1 pm \nIn this 2-day intensive\, Laura Bellmont from The Little Animation Studio will deliver a crash course on stop motion animation\, which includes story boarding\, character creation\, set design\, and fabrication. \n$200 Members | $250 Nonmembers \nREGISTER  \nA cancellation up to 7 days prior to the first day of Vacation Workshops will guarantee a 100% refund. No refunds will be given after that time. The Parrish is not responsible for providing refunds for classes missed as a result of student illness\, student emergencies or events beyond our control. The Museum reserves the right to cancel any class which does not meet minimum enrollment requirements
URL:https://parrishart.org/event/stop-motion-animation-mini-camp-2/2019-04-23/
LOCATION:Parrish Art Museum\, 279 Montauk Highway\, Water Mill\, NY\, 11976\, United States
CATEGORIES:Classes and Workshops
ATTACH;FMTTYPE=image/jpeg:https://parrishart.org/wp-content/uploads/2019/03/Stop-Motion_edit-Jillian-Bock.jpg
END:VEVENT
BEGIN:VEVENT
DTSTART;TZID=America/New_York:20190423T130000
DTEND;TZID=America/New_York:20190423T150000
DTSTAMP:20260420T140503
CREATED:20190322T154227Z
LAST-MODIFIED:20190325T212329Z
UID:10001487-1556024400-1556031600@parrishart.org
SUMMARY:Spring Vacation Art Workshop: Landscape Painting
DESCRIPTION:For children age 6 and older \nCelebrate spring break at the Parrish with creative workshops and visual arts. In this workshop children will create spring landscape paintings in tempera paint. Each class will begin with a gallery tour. \nSpace is limited and advance registration and payment are required. \nREGISTER  \n\nA cancellation up to 7 days prior to the first day of Winter Vacation Workshops will guarantee a 100% refund. No refunds will be given after that time. The Parrish is not responsible for providing refunds for classes missed as a result of student illness\, student emergencies or events beyond our control. The Museum reserves the right to cancel any class which does not meet minimum enrollment requirements
URL:https://parrishart.org/event/spring-vacation-art-workshop-landscape-painting/
LOCATION:Parrish Art Museum\, 279 Montauk Highway\, Water Mill\, NY\, 11976\, United States
CATEGORIES:Classes and Workshops
ATTACH;FMTTYPE=image/jpeg:https://parrishart.org/wp-content/uploads/2019/02/ArtCamp-Krishenbaum-03282015-025.jpg
END:VEVENT
END:VCALENDAR