BEGIN:VCALENDAR
VERSION:2.0
PRODID:-//Parrish Art Museum - ECPv6.10.2//NONSGML v1.0//EN
CALSCALE:GREGORIAN
METHOD:PUBLISH
X-WR-CALNAME:Parrish Art Museum
X-ORIGINAL-URL:https://parrishart.org
X-WR-CALDESC:Events for Parrish Art Museum
REFRESH-INTERVAL;VALUE=DURATION:PT1H
X-Robots-Tag:noindex
X-PUBLISHED-TTL:PT1H
BEGIN:VTIMEZONE
TZID:America/New_York
BEGIN:DAYLIGHT
TZOFFSETFROM:-0500
TZOFFSETTO:-0400
TZNAME:EDT
DTSTART:20190310T070000
END:DAYLIGHT
BEGIN:STANDARD
TZOFFSETFROM:-0400
TZOFFSETTO:-0500
TZNAME:EST
DTSTART:20191103T060000
END:STANDARD
END:VTIMEZONE
BEGIN:VEVENT
DTSTART;TZID=America/New_York:20190211T100000
DTEND;TZID=America/New_York:20190211T170000
DTSTAMP:20260424T165140
CREATED:20190130T185240Z
LAST-MODIFIED:20190221T200807Z
UID:10000081-1549879200-1549904400@parrishart.org
SUMMARY:2019 Student Exhibition
DESCRIPTION:February 9 – March 10\, 2019 \nThe annual Student Exhibition\, a 60-year tradition at the Parrish\, features the work of more than 1\,000 young artists from schools on Eastern Long Island. Working with their art teachers and through art clubs\, the students demonstrate creativity\, enthusiasm\, and technical skill in diverse media\, ranging from painting to sculpture\, drawing and photography. \nThis years’ exhibition includes work created by students in Artist-in-Residence workshops with artist Jeremy Dennis. \nIn addition to the nearly 300 works by students under the direction of their art teachers in 38 public\, private\, and home schools\, the exhibition features work by 350 students who participated in workshops to create works inspired by Dennis’ images currently on view in the museum’s exhibition Every Picture Tells a Story. \nThe Parrish Art Museum’s educational programming is supported\, in part\, by The Stanley and Fiona Druckenmiller Fund\, Institute of Museum and Library Services\, Long Island Community Foundation\, May and Samuel Rudin Family Foundation\, Robert Lehman Foundation\, The John J. McDonnell Margaret T. O’Brien Foundation\, Patricia and David Rung\, William Talbott Hillman Foundation\, Bobbie Braun/The Neuwirth Foundation\, and Town of Southampton. Additional support for the Parrish education programs is provided by the Museum’s annual Spring Fling benefit fundraiser.
URL:https://parrishart.org/event/2019-student-exhibition/2019-02-11/
LOCATION:Parrish Art Museum\, 279 Montauk Highway\, Water Mill\, NY\, 11976\, United States
CATEGORIES:Family Programs
ATTACH;FMTTYPE=image/jpeg:https://parrishart.org/wp-content/uploads/2017/01/Student-DSC8542.jpg
END:VEVENT
BEGIN:VEVENT
DTSTART;TZID=America/New_York:20190211T100000
DTEND;TZID=America/New_York:20190211T170000
DTSTAMP:20260424T165140
CREATED:20190321T170208Z
LAST-MODIFIED:20190507T155747Z
UID:10001258-1549879200-1549904400@parrishart.org
SUMMARY:Every Picture Tells a Story: Work from the Permanent Collection
DESCRIPTION:November 11\, 2018 to October 6\, 2019 \nEach year\, the Museum creates a new exhibition that contextualizes work and amplifies inherent themes by important artists in the Parrish collection of more than 3\,000 works. This year’s seven-gallery installation\, Every Picture Tells a Story\, presents a series of focused exhibitions that explore the many ways that images carry narrative meaning. \nEvery Picture Tells a Story\, the 2018 Permanent Collection Exhibition\, has been made possible\, in part\, by the generous support of Barbara Slifka; Ellen Cantrowitz\, Garrett and Mary Moran; Charlotte Moss and Barry Friedberg\, Jane and David Walentas\, Marie Samuels\, Per Skarstedt\, Deborah Buck\, and a donor who wishes to remain anonymous.
URL:https://parrishart.org/event/every-picture-tells-a-story-work-from-the-permanent-collection/2019-02-11/
LOCATION:Parrish Art Museum\, 279 Montauk Highway\, Water Mill\, NY\, 11976\, United States
CATEGORIES:Exhibitions
ATTACH;FMTTYPE=image/jpeg:https://parrishart.org/wp-content/uploads/2018/11/2000-7-1.jpg
END:VEVENT
BEGIN:VEVENT
DTSTART;TZID=America/New_York:20190211T110000
DTEND;TZID=America/New_York:20190211T130000
DTSTAMP:20260424T165140
CREATED:20190116T170637Z
LAST-MODIFIED:20190129T175306Z
UID:10000779-1549882800-1549890000@parrishart.org
SUMMARY:Life Drawing with Linda Capello
DESCRIPTION:Series will be held on Mondays\, January 7\, 14\, 28\, February 4 and 11. No class on January 21 for Martin Luther King Jr. Day \n11am-1pm \nDevelop your drawing skills in this five-session open studio series facilitated by teaching artist Linda Capello. Participants will practice drawing male and female models through gesture sketches and longer duration observation. All skill levels are welcome. Participants are asked to provide their own dry media supplies. \nLinda Capello is a master of figure drawing. A graduate of the Fashion Institute of Technology\, she worked in the NYC fashion industry for over 20 years. She states\, “All I have ever wanted to do was draw\, and all I have ever wanted to draw were people. I am a classically trained anatomist\, but instead of the rigid\, mechanical representation of muscle\, bone and flesh\, I look for the subtlety of the line; the strength and sensuality of the thick\, thin and lost line. The curve of the neck and arch of the spine speak volumes.” \nRegister Online
URL:https://parrishart.org/event/life-drawing-with-linda-capello-2/2019-02-11/
LOCATION:Parrish Art Museum\, 279 Montauk Highway\, Water Mill\, NY\, 11976\, United States
CATEGORIES:Adult Art Classes
ATTACH;FMTTYPE=image/jpeg:https://parrishart.org/wp-content/uploads/2019/01/Linda3.jpg
END:VEVENT
END:VCALENDAR