BEGIN:VCALENDAR
VERSION:2.0
PRODID:-//Parrish Art Museum - ECPv6.10.2//NONSGML v1.0//EN
CALSCALE:GREGORIAN
METHOD:PUBLISH
X-ORIGINAL-URL:https://parrishart.org
X-WR-CALDESC:Events for Parrish Art Museum
REFRESH-INTERVAL;VALUE=DURATION:PT1H
X-Robots-Tag:noindex
X-PUBLISHED-TTL:PT1H
BEGIN:VTIMEZONE
TZID:America/New_York
BEGIN:DAYLIGHT
TZOFFSETFROM:-0500
TZOFFSETTO:-0400
TZNAME:EDT
DTSTART:20190310T070000
END:DAYLIGHT
BEGIN:STANDARD
TZOFFSETFROM:-0400
TZOFFSETTO:-0500
TZNAME:EST
DTSTART:20191103T060000
END:STANDARD
END:VTIMEZONE
BEGIN:VEVENT
DTSTART;TZID=America/New_York:20190208T100000
DTEND;TZID=America/New_York:20190208T200000
DTSTAMP:20260424T104139
CREATED:20190321T170333Z
LAST-MODIFIED:20190410T155311Z
UID:10001441-1549620000-1549656000@parrishart.org
SUMMARY:Every Picture Tells a Story: Work from the Permanent Collection
DESCRIPTION:November 11\, 2018 to October 6\, 2019 \nEach year\, the Museum creates a new exhibition that contextualizes work and amplifies inherent themes by important artists in the Parrish collection of more than 3\,000 works. This year’s seven-gallery installation\, Every Picture Tells a Story\, presents a series of focused exhibitions that explore the many ways that images carry narrative meaning. \nEvery Picture Tells a Story\, the 2018 Permanent Collection Exhibition\, has been made possible\, in part\, by the generous support of Barbara Slifka; Ellen Cantrowitz\, Garrett and Mary Moran; Charlotte Moss and Barry Friedberg\, Jane and David Walentas\, Marie Samuels\, Per Skarstedt\, Deborah Buck\, and a donor who wishes to remain anonymous.
URL:https://parrishart.org/event/every-picture-tells-a-story/2019-02-08/
LOCATION:Parrish Art Museum\, 279 Montauk Highway\, Water Mill\, NY\, 11976\, United States
CATEGORIES:Exhibitions
ATTACH;FMTTYPE=image/jpeg:https://parrishart.org/wp-content/uploads/2018/11/2000-7-1.jpg
END:VEVENT
BEGIN:VEVENT
DTSTART;TZID=America/New_York:20190208T180000
DTEND;TZID=America/New_York:20190208T200000
DTSTAMP:20260424T104139
CREATED:20190116T173000Z
LAST-MODIFIED:20190321T201609Z
UID:10000784-1549648800-1549656000@parrishart.org
SUMMARY:Gallery Talk: Louis K. Meisel\, Yigal Ozeri\, Terrie Sultan on Photorealism
DESCRIPTION:Join Louis K. Meisel\, Yigal Ozeri\, and Parrish Director Terrie Sultan as they illuminate the artists and themes of the Photorealist movement that are part of the reinstallation of the Museum’s permanent collection. Seating is limited: advance reservations required \n  \nFriday nights are made possible\, in part\, by the generous support of The Corcoran Group\, Bank of America\, and Sandy and Stephen Perlbinder.
URL:https://parrishart.org/event/gallery-talk-louis-k-meisel-yigal-ozeri-terrie-sultan-on-photorealism/
LOCATION:Parrish Art Museum\, 279 Montauk Highway\, Water Mill\, NY\, 11976\, United States
CATEGORIES:Friday Nights,Talks
ATTACH;FMTTYPE=image/jpeg:https://parrishart.org/wp-content/uploads/2019/01/Meniel-Breakfast-at-the-Fairmont.jpg
END:VEVENT
END:VCALENDAR